BEGIN:VCALENDAR
VERSION:2.0
PRODID:-//ChamberMaster//Event Calendar 2.0//EN
METHOD:PUBLISH
X-PUBLISHED-TTL:P3D
REFRESH-INTERVAL:P3D
CALSCALE:GREGORIAN
BEGIN:VEVENT
DTSTART:20181201T190000Z
DTEND:20181201T200000Z
X-MICROSOFT-CDO-ALLDAYEVENT:FALSE
SUMMARY:Floral & Hardy of Skippack - Winter Container Workshop II
DESCRIPTION:Make your own your winter container at this fun workshop!   We'll have everything you'll need to design and build your own front door masterpiece.  Choose from a variety of evergreens\, winterberry\, holly and other festive items.  Bring your own gardening gloves and pruners or purchase them from us at a discount.  This class is also offered at 10:00 a.m. so be sure to RSVP for the one that fits your schedule.  Cost range is $35 to $45.  We'll have 3 container styles to choose from.\n\n \n\nPlease RSVP: http://floralandhardyofskippack.com/events/308/winter-container-workshop-ii/
X-ALT-DESC;FMTTYPE=text/html:<div style="text-align: justify\;"><span style="background-color:transparent\; color:rgb(0\, 0\, 0)\; font-family:lora\,times new roman\,times\,serif\; font-size:13px">Make your own your winter container at this fun workshop!&nbsp\;&nbsp\; We&rsquo\;ll have everything you&rsquo\;ll need to design and build your own front door masterpiece.&nbsp\;&nbsp\;Choose from a variety of evergreens\, winterberry\,&nbsp\;holly and other festive items.&nbsp\; Bring your own gardening gloves and pruners or purchase them from us at a discount.&nbsp\; This class is also offered at 10:00 a.m. so be sure to RSVP for the one that fits your schedule. &nbsp\;Cost range is $35 to $45.&nbsp\; We&rsquo\;ll have 3 container styles to choose from.</span><br />\n&nbsp\;</div>\n\n<div><span style="background-color:transparent\; color:rgb(0\, 0\, 0)\; font-family:lora\,times new roman\,times\,serif\; font-size:13px">Please RSVP:&nbsp\;<a href="http://floralandhardyofskippack.com/events/308/winter-container-workshop-ii/">http://floralandhardyofskippack.com/events/308/winter-container-workshop-ii/</a></span></div>\n
LOCATION:Floral & Hardy 4007 Skippack Pike Skippack\, PA 19474
UID:e.2385.8087
SEQUENCE:3
DTSTAMP:20260422T041147Z
URL:https://business.chambergmc.org/events/details/floral-hardy-of-skippack-winter-container-workshop-ii-8087
END:VEVENT

END:VCALENDAR
