BEGIN:VCALENDAR
VERSION:2.0
PRODID:-//ChamberMaster//Event Calendar 2.0//EN
METHOD:PUBLISH
X-PUBLISHED-TTL:P3D
REFRESH-INTERVAL:P3D
CALSCALE:GREGORIAN
BEGIN:VEVENT
DTSTART:20181120T233000Z
DTEND:20181121T003000Z
X-MICROSOFT-CDO-ALLDAYEVENT:FALSE
SUMMARY:Floral & Hardy of Skippack - Wreath Decorating Workshop III
DESCRIPTION:Get into the holiday spirit with our wreath decorating workshop! We'll help you decorate your own wreath\, using fresh evergreens\, winterberry and other adornments. Perfect for your front door!  Bring your own gardening gloves and pruners or purchase them at a discount.  Cost is $45.  Feel free to arrive at 6:00 p.m. if you would like to get an early start.  \n \n\nPlease RSVP: http://floralandhardyofskippack.com/events/311/wreath-decorating-workshop-iii/
X-ALT-DESC;FMTTYPE=text/html:<div style="text-align: justify\;"><span style="background-color:transparent\; color:rgb(0\, 0\, 0)\; font-family:lora\,times new roman\,times\,serif\; font-size:13px">Get into the holiday spirit with our wreath decorating workshop! We&rsquo\;ll help you decorate your own wreath\, using fresh evergreens\, winterberry and other adornments. Perfect for your front door!&nbsp\; Bring your own gardening gloves and pruners or purchase them at a discount.&nbsp\; Cost is $45.&nbsp\; Feel free to arrive at 6:00 p.m. if you would like to get an early start.&nbsp\; </span></div>\n&nbsp\;\n\n<div>Please RSVP:&nbsp\;<a href="http://floralandhardyofskippack.com/events/311/wreath-decorating-workshop-iii/">http://floralandhardyofskippack.com/events/311/wreath-decorating-workshop-iii/</a></div>\n
LOCATION:Floral & Hardy 4007 Skippack Pike Skippack\, PA 19474
UID:e.2385.8090
SEQUENCE:3
DTSTAMP:20260422T025617Z
URL:https://business.chambergmc.org/events/details/floral-hardy-of-skippack-wreath-decorating-workshop-iii-8090
END:VEVENT

END:VCALENDAR
