BEGIN:VCALENDAR
VERSION:2.0
PRODID:-//ChamberMaster//Event Calendar 2.0//EN
METHOD:PUBLISH
X-PUBLISHED-TTL:P3D
REFRESH-INTERVAL:P3D
CALSCALE:GREGORIAN
BEGIN:VEVENT
DTSTART:20180621T220000Z
DTEND:20180622T003000Z
X-MICROSOFT-CDO-ALLDAYEVENT:FALSE
SUMMARY:Floral & Hardy Paint & Sip Night – Succulents
DESCRIPTION:Succulents are cool\, modern looking plants that are very resilient.  Make them last even longer by creating your own succulent painting!  Join us at F&H for a fun\, relaxing evening of painting and sipping wine in our garden area.  We'll give you step-by-step instructions while you paint your own succulent masterpiece.  No experience necessary! Cost is $40. PRE-PAY ONLY.\n\n\nPlease RSVP: http://floralandhardyofskippack.com/events/264/paint-sip-night-succulents/
X-ALT-DESC;FMTTYPE=text/html:<div style="text-align:justify"><span style="background-color:transparent\; color:rgb(0\, 0\, 0)\; font-family:lora\,times new roman\,times\,serif\; font-size:13px"><span style="font-size:14px"><span style="font-family:arial\,helvetica\,sans-serif">Succulents are cool\, modern looking plants that are very resilient.&nbsp\; Make them last even longer by creating your own succulent painting!&nbsp\; Join us at F&amp\;H for a fun\, relaxing evening of painting and sipping wine in our garden area.&nbsp\; We&rsquo\;ll give you step-by-step instructions while you paint your own succulent masterpiece.&nbsp\; No experience necessary! Cost is $40. PRE-PAY ONLY.</span></span></span></div>\n<br />\n<span style="background-color:transparent\; color:rgb(0\, 0\, 0)\; font-family:lora\,times new roman\,times\,serif\; font-size:13px"><span style="font-size:14px"><span style="font-family:arial\,helvetica\,sans-serif">Please RSVP:&nbsp\;<a href="http://floralandhardyofskippack.com/events/264/paint-sip-night-succulents/">http://floralandhardyofskippack.com/events/264/paint-sip-night-succulents/</a></span></span></span>
LOCATION:Floral & Hardy 4007 Skippack Pike Skippack\, PA 19474
UID:e.2385.6644
SEQUENCE:3
DTSTAMP:20260421T202243Z
URL:https://business.chambergmc.org/events/details/floral-hardy-paint-sip-night-succulents-06-21-2018-6644
END:VEVENT

END:VCALENDAR
