BEGIN:VCALENDAR
VERSION:2.0
PRODID:-//ChamberMaster//Event Calendar 2.0//EN
METHOD:PUBLISH
X-PUBLISHED-TTL:P3D
REFRESH-INTERVAL:P3D
CALSCALE:GREGORIAN
BEGIN:VEVENT
DTSTART:20180929T140000Z
DTEND:20180929T160000Z
X-MICROSOFT-CDO-ALLDAYEVENT:FALSE
SUMMARY:Floral & Hardy Painting Pumpkins in the Garden
DESCRIPTION:Painting With A Twist is taking the studio outside to paint brand new beautiful Fall Screen Art at Floral & Hardy.  You'll get to paint the newest piece of Fall Screen Art by Rebeca Flott Arts! It's a new Twist on painting! You'll play with palette knives to schmear special "artist mud" onto a screen\, creating a rustic textured piece of artwork that you can hang inside or outside! You can personalize the colors of your frame too!  No experience required. Arrive at 9:30 a.m. to get settled and browse our shop and garden area.  We'll have new fall d cor\, mums and pumpkins.\n\nSeating is limited for this special event\, so reserve your spot! Please sign-up here: https://www.paintingwithatwist.com/studio/skippack/event/1652383/
X-ALT-DESC;FMTTYPE=text/html:<p style="margin-left:0px\; margin-right:0px\; text-align:justify"><span style="font-family:arial\,helvetica\,sans-serif">Painting With A Twist is taking the studio outside to paint brand new beautiful Fall Screen Art at Floral &amp\; Hardy.&nbsp\; </span><span style="font-family:arial\,helvetica\,sans-serif">You&rsquo\;ll get to paint the newest piece of Fall Screen Art by Rebeca Flott Arts! It&rsquo\;s a new Twist on painting! You&rsquo\;ll play with palette knives to schmear special &ldquo\;artist mud&rdquo\; onto a screen\, creating a rustic textured piece of artwork that you can hang inside or outside! You can personalize the colors of your frame too!&nbsp\; No experience required. </span><span style="font-family:arial\,helvetica\,sans-serif">Arrive at 9:30 a.m. to get settled and browse our shop and garden area.&nbsp\; We&rsquo\;ll have new fall d&eacute\;cor\, mums and pumpkins.</span></p>\n\n<p style="margin-right: 0px\; margin-left: 0px\;"><span style="font-family:arial\,helvetica\,sans-serif">Seating is limited for this special event\, so reserve your spot! Please sign-up here: <a href="https://www.paintingwithatwist.com/studio/skippack/event/1652383/">https://www.paintingwithatwist.com/studio/skippack/event/1652383/</a></span></p>\n
LOCATION:Floral & Hardy 4007 Skippack Pike Skippack\, PA 19474
UID:e.2385.7870
SEQUENCE:3
DTSTAMP:20260422T004139Z
URL:https://business.chambergmc.org/events/details/floral-hardy-painting-pumpkins-in-the-garden-7870
END:VEVENT

END:VCALENDAR
