BEGIN:VCALENDAR
VERSION:2.0
PRODID:-//ChamberMaster//Event Calendar 2.0//EN
METHOD:PUBLISH
X-PUBLISHED-TTL:P3D
REFRESH-INTERVAL:P3D
CALSCALE:GREGORIAN
BEGIN:VEVENT
DTSTART:20180919T220000Z
DTEND:20180919T230000Z
X-MICROSOFT-CDO-ALLDAYEVENT:FALSE
SUMMARY:Floral & Hardy Plan Ahead and Plant Spring Bulbs
DESCRIPTION:Join us at Floral & Hardy for this FREE wine & cheese class about the choices you can make for a gorgeous spring display of bulbs! Fall is the time to do prepping of the soil\, planting bulbs and preparing for a beautiful spring display.   We'll cover types of bulbs\, colors of flowers and the effect you would like to present in your garden.   The instructor for this class is Penn State Master Gardener\, Kathy Klein. \n\n \n\nPlease RSVP: http://floralandhardyofskippack.com/events/295/plan-ahead-and-plant-spring-bulbs/
X-ALT-DESC;FMTTYPE=text/html:<div style="text-align: justify\;"><span style="background-color:transparent\; color:rgb(0\, 0\, 0)\; font-family:lora\,times new roman\,times\,serif\; font-size:13px"><span style="font-size:12px"><span style="font-family:arial\,helvetica\,sans-serif">Join us at Floral &amp\; Hardy for this FREE wine &amp\; cheese class about the choices you can make for a gorgeous spring display of bulbs! Fall is the time to do prepping of the soil\, planting bulbs and preparing for a beautiful spring display. &nbsp\; We&rsquo\;ll cover types of bulbs\, colors of flowers and the effect you would like to present in your garden. &nbsp\; The instructor for this class is Penn State Master Gardener\, Kathy Klein. </span></span></span><br />\n&nbsp\;</div>\n\n<div><span style="background-color:transparent\; color:rgb(0\, 0\, 0)\; font-family:lora\,times new roman\,times\,serif\; font-size:13px">Please RSVP:&nbsp\;<a href="http://floralandhardyofskippack.com/events/295/plan-ahead-and-plant-spring-bulbs/">http://floralandhardyofskippack.com/events/295/plan-ahead-and-plant-spring-bulbs/</a></span></div>\n
LOCATION:Floral & Hardy 4007 Skippack Pike Skippack\, PA 19474
UID:e.2385.7991
SEQUENCE:3
DTSTAMP:20260422T003140Z
URL:https://business.chambergmc.org/events/details/floral-hardy-plan-ahead-and-plant-spring-bulbs-7991
END:VEVENT

END:VCALENDAR
