BEGIN:VCALENDAR
VERSION:2.0
PRODID:-//ChamberMaster//Event Calendar 2.0//EN
METHOD:PUBLISH
X-PUBLISHED-TTL:P3D
REFRESH-INTERVAL:P3D
CALSCALE:GREGORIAN
BEGIN:VEVENT
DTSTART:20180908T140000Z
DTEND:20180908T150000Z
X-MICROSOFT-CDO-ALLDAYEVENT:FALSE
SUMMARY:Floral & Hardy Plant Swap
DESCRIPTION:Join us at F&H for our first ever plant swap!  Meet with other plant enthusiasts to swap plants and share gardening tips.  Thin out your gardens and bring divided perennials\, annuals\, bulbs\, etc. or houseplants.  Rules are:\n\n\n	Bring 1 to 3 healthy\, pest-free plants or cuttings to trade (plants can be potted or bare-root).\n	Label the plant with its common or botanical name.\n	Leave with the same amount of plants that you came with.\n\n\nReserve your spot!  Please RSVP: http://floralandhardyofskippack.com/events/289/plant-swap/\n\nNote: this event is a fundraiser for Charlie's Cause (Home at Last Dog Rescue).  We are requesting a $5 cash donation per person.
X-ALT-DESC;FMTTYPE=text/html:<p style="margin-left:0px\; margin-right:0px\; text-align:justify"><span style="font-family:arial\,helvetica\,sans-serif">Join us at F&amp\;H for our first ever plant swap!&nbsp\; Meet with other plant enthusiasts to swap plants and share gardening tips.&nbsp\; Thin out your gardens and bring divided perennials\, annuals\, bulbs\, etc. or houseplants.&nbsp\; Rules are:</span></p>\n\n<ol>\n	<li><span style="font-family:arial\,helvetica\,sans-serif\; font-size:13.33px">Bring 1 to 3 healthy\, pest-free plants or cuttings to trade (plants can be potted or bare-root).</span></li>\n	<li><span style="font-family:arial\,helvetica\,sans-serif\; font-size:13.33px">Label the plant with its common or botanical name.</span></li>\n	<li><span style="font-family:arial\,helvetica\,sans-serif\; font-size:13.33px">Leave with the same amount of plants that you came with.</span></li>\n</ol>\n\n<p style="margin-right: 0px\; margin-left: 0px\;"><span style="font-family:arial\,helvetica\,sans-serif">Reserve your spot!&nbsp\; Please RSVP:&nbsp\;<a href="http://floralandhardyofskippack.com/events/289/plant-swap/">http://floralandhardyofskippack.com/events/289/plant-swap/</a></span></p>\n\n<p style="margin-left:0px\; margin-right:0px\; text-align:justify"><span style="color:rgb(255\, 0\, 0)\; font-family:arial\,helvetica\,sans-serif">Note: this event is a fundraiser for Charlie&rsquo\;s Cause (Home at Last Dog Rescue).&nbsp\; We are requesting a $5 cash donation per person.</span></p>\n
LOCATION:Floral & Hardy 4007 Skippack Pike Skippack\, PA 19474
UID:e.2385.7871
SEQUENCE:3
DTSTAMP:20260422T003807Z
URL:https://business.chambergmc.org/events/details/floral-hardy-plant-swap-7871
END:VEVENT

END:VCALENDAR
