BEGIN:VCALENDAR
VERSION:2.0
PRODID:-//ChamberMaster//Event Calendar 2.0//EN
METHOD:PUBLISH
X-PUBLISHED-TTL:P3D
REFRESH-INTERVAL:P3D
CALSCALE:GREGORIAN
BEGIN:VEVENT
DTSTART:20191002T223000Z
DTEND:20191002T233000Z
X-MICROSOFT-CDO-ALLDAYEVENT:FALSE
SUMMARY:Floral & Hardy - Prepping Your Gardens for Winter
DESCRIPTION:Join us at F&H for this free wine & cheese class.  Learn everything you need to know about putting your gardens to bed for the winter.  We'll give you tips about garden clean up and prepping your gardens for the colder months.  Find out about how to help your plants survive harsher winter conditions.  The instructor for this class is Penn State Master Gardener\, Joan Kober. \n\n\nPlease RSVP: \n\nhttps://floralandhardyofskippack.com/events/prepping-your-gardens-for-winter/
X-ALT-DESC;FMTTYPE=text/html:<div style="text-align: justify\;"><span style="background-color:rgb(252\, 249\, 244)\; color:rgb(0\, 0\, 0)\; font-family:arial\,helvetica\,sans-serif">Join us at F&amp\;H for this free wine &amp\; cheese class.&nbsp\; Learn everything you need to know about putting your gardens to bed for the winter.&nbsp\; We&rsquo\;ll give you tips about garden clean up and prepping your gardens for the colder months.&nbsp\; Find out about how to help your plants survive harsher winter conditions.&nbsp\; The instructor for this class is Penn State Master Gardener\, Joan Kober. </span></div>\n<br />\n<span style="background-color:rgb(252\, 249\, 244)\; color:rgb(0\, 0\, 0)\; font-family:arial\,helvetica\,sans-serif">Please RSVP:&nbsp\;<br />\n<a href="https://floralandhardyofskippack.com/events/prepping-your-gardens-for-winter/">https://floralandhardyofskippack.com/events/prepping-your-gardens-for-winter/</a></span>
LOCATION:Floral & Hardy 4007 Skippack Pike Skippack\, PA 19474
UID:e.2385.10073
SEQUENCE:3
DTSTAMP:20260423T165927Z
URL:https://business.chambergmc.org/events/details/floral-hardy-prepping-your-gardens-for-winter-10073
END:VEVENT

END:VCALENDAR
