BEGIN:VCALENDAR
VERSION:2.0
PRODID:-//ChamberMaster//Event Calendar 2.0//EN
METHOD:PUBLISH
X-PUBLISHED-TTL:P3D
REFRESH-INTERVAL:P3D
CALSCALE:GREGORIAN
BEGIN:VEVENT
DTSTART:20181023T223000Z
DTEND:20181023T233000Z
X-MICROSOFT-CDO-ALLDAYEVENT:FALSE
SUMMARY:Floral & Hardy Pumpkin Succulent Workshop III
DESCRIPTION:Bring your friends and join us for this fun succulents & sipping event!  We'll show you how to design your own pumpkin succulent harvest decoration.  Makes a great fall centerpiece!  Enjoy complimentary wine or bring your own beverage.  We'll supply the pumpkin\, succulent plant tops\, moss and decorative fall items.  Learn how to care for the succulent tops so that they can be re-planted.  Cost is $45. \n\n\nPlease RSVP: http://floralandhardyofskippack.com/events/298/pumpkin-succulent-workshop-iii/
X-ALT-DESC;FMTTYPE=text/html:<div style="text-align: justify\;"><span style="background-color:transparent\; color:rgb(0\, 0\, 0)\; font-family:lora\,times new roman\,times\,serif\; font-size:13px">Bring your friends and join us for this fun succulents &amp\; sipping event!&nbsp\; We&rsquo\;ll show you how to design your own pumpkin succulent harvest decoration.&nbsp\; Makes a great fall centerpiece!&nbsp\; Enjoy complimentary wine or bring your own beverage.&nbsp\; We&rsquo\;ll supply the pumpkin\, succulent plant tops\, moss and decorative fall items.&nbsp\; Learn how to care for the succulent tops so that they can be re-planted.&nbsp\; Cost is $45. </span></div>\n<br />\n<span style="background-color:transparent\; color:rgb(0\, 0\, 0)\; font-family:lora\,times new roman\,times\,serif\; font-size:13px">Please RSVP:&nbsp\;<a href="http://floralandhardyofskippack.com/events/298/pumpkin-succulent-workshop-iii/">http://floralandhardyofskippack.com/events/298/pumpkin-succulent-workshop-iii/</a></span>
LOCATION:Floral & Hardy 4007 Skippack Pike Skippack\, PA 19474
UID:e.2385.7999
SEQUENCE:3
DTSTAMP:20260422T014510Z
URL:https://business.chambergmc.org/events/details/floral-hardy-pumpkin-succulent-workshop-iii-7999
END:VEVENT

END:VCALENDAR
