BEGIN:VCALENDAR
VERSION:2.0
PRODID:-//ChamberMaster//Event Calendar 2.0//EN
METHOD:PUBLISH
X-PUBLISHED-TTL:P3D
REFRESH-INTERVAL:P3D
CALSCALE:GREGORIAN
BEGIN:VEVENT
DTSTART:20180922T140000Z
DTEND:20180922T200000Z
X-MICROSOFT-CDO-ALLDAYEVENT:FALSE
SUMMARY:Floral & Hardy Scarecrow Festival
DESCRIPTION:Join us for our annual scarecrow festival where you'll be able to build your own straw friend.  This is a fun fall activity for both adults and kids.  Bring your special scarecrow outfit and we'll supply the posts\, stuffing\, and other fun accessories.  Come early and take your new 5  straw friend home.  Cost is $15 per scarecrow.\n\n \n\nPlease RSVP:  http://floralandhardyofskippack.com/events/284/scarecrow-festival/
X-ALT-DESC;FMTTYPE=text/html:<div style="text-align: justify\;"><span style="background-color:transparent\; color:rgb(0\, 0\, 0)\; font-family:arial\,helvetica\,sans-serif\; font-size:13px">Join us for our annual scarecrow festival where you&rsquo\;ll be able to build your own straw friend.&nbsp\; This is a fun fall activity for both adults and kids.&nbsp\;&nbsp\;Bring your special scarecrow outfit and we&rsquo\;ll&nbsp\;supply the posts\, stuffing\, and other fun accessories.&nbsp\;&nbsp\;Come early and take your new 5&prime\; straw friend home.&nbsp\; Cost is $15 per scarecrow.</span><br />\n&nbsp\;</div>\n\n<div>Please RSVP: &nbsp\;<a href="http://floralandhardyofskippack.com/events/284/scarecrow-festival/">http://floralandhardyofskippack.com/events/284/scarecrow-festival/</a></div>\n
LOCATION:Floral & Hardy 4007 Skippack Pike Skippack\, PA 19474
UID:e.2385.7858
SEQUENCE:3
DTSTAMP:20260422T003934Z
URL:https://business.chambergmc.org/events/details/floral-hardy-scarecrow-festival-7858
END:VEVENT

END:VCALENDAR
