BEGIN:VCALENDAR
VERSION:2.0
PRODID:-//ChamberMaster//Event Calendar 2.0//EN
METHOD:PUBLISH
X-PUBLISHED-TTL:P3D
REFRESH-INTERVAL:P3D
CALSCALE:GREGORIAN
BEGIN:VEVENT
DTSTART:20180920T220000Z
DTEND:20180920T230000Z
X-MICROSOFT-CDO-ALLDAYEVENT:FALSE
SUMMARY:Floral & Hardy Silk Floral Container Workshop
DESCRIPTION:Join us for this new fall workshop!  Create a beautiful fall display for your home\, using silk flowers. We'll help you design your own decorative\, long-lasting arrangement.  Learn about faux flower arranging basics and tips from our co-host\, Jacque Lazaro of Jacque's Silk Floral Designs in Skippack. Cost is $39. \n\n \n\nPlease RSVP: http://floralandhardyofskippack.com/events/296/silk-floral-container-workshop/
X-ALT-DESC;FMTTYPE=text/html:<div style="text-align: justify\;"><span style="background-color:transparent\; color:rgb(0\, 0\, 0)\; font-family:arial\,helvetica\,sans-serif\; font-size:16px">Join us for this new fall workshop!&nbsp\; Create a beautiful fall display for your home\, using silk flowers. We&rsquo\;ll help you design your own decorative\, long-lasting arrangement.&nbsp\; Learn about faux flower arranging basics and tips from our co-host\, Jacque Lazaro of Jacque&rsquo\;s Silk Floral Designs in Skippack. Cost is $39. </span><br />\n&nbsp\;</div>\n\n<div style="text-align: justify\;"><span style="background-color:transparent\; color:rgb(0\, 0\, 0)\; font-family:arial\,helvetica\,sans-serif\; font-size:16px">Please RSVP:&nbsp\;<a href="http://floralandhardyofskippack.com/events/296/silk-floral-container-workshop/">http://floralandhardyofskippack.com/events/296/silk-floral-container-workshop/</a></span></div>\n
LOCATION:Floral & Hardy 4007 Skippack Pike Skippack\, PA 19474
UID:e.2385.7992
SEQUENCE:3
DTSTAMP:20260422T013210Z
URL:https://business.chambergmc.org/events/details/floral-hardy-silk-floral-container-workshop-7992
END:VEVENT

END:VCALENDAR
