BEGIN:VCALENDAR
VERSION:2.0
PRODID:-//ChamberMaster//Event Calendar 2.0//EN
METHOD:PUBLISH
X-PUBLISHED-TTL:P3D
REFRESH-INTERVAL:P3D
CALSCALE:GREGORIAN
BEGIN:VEVENT
DTSTART:20180504T223000Z
DTEND:20180504T233000Z
X-MICROSOFT-CDO-ALLDAYEVENT:FALSE
SUMMARY:Floral & Hardy - Sip and Sniff Essential Oils 101 Class
DESCRIPTION:Essential Oils are everywhere! Come see what the buzz is about and join Floral & Hardy for this FREE Essential Oils 101 class with wine.  Learn about the benefits pure oils can bring to your life while you sit back\, relax and sip some wine.  Bring your friends for a fun night out on this First Friday!  Browse around F&H before and after class to check out our new spring arrivals.  We'll have lots of plants and cool home & yard d cor.  \n\n\nPlease RSVP: http://floralandhardyofskippack.com/events/257/sip-and-sniff-essential-oils-101-class/
X-ALT-DESC;FMTTYPE=text/html:<div style="text-align: justify\;"><span style="font-size:12px"><span style="font-family:arial\,helvetica\,sans-serif"><span style="background-color:transparent\; color:rgb(0\, 0\, 0)">Essential Oils are everywhere! Come see what the buzz is about and join Floral &amp\; Hardy for this FREE Essential Oils 101 class with wine.&nbsp\; Learn about the benefits pure oils can bring to your life while you sit back\, relax and sip some wine.&nbsp\; Bring your friends for a fun night out on this First Friday!&nbsp\; Browse around F&amp\;H before and after class to check out our new spring arrivals.&nbsp\; We&rsquo\;ll have lots of plants and cool home &amp\; yard d&eacute\;cor.&nbsp\; </span></span></span></div>\n<br />\n<span style="font-size:12px"><span style="font-family:arial\,helvetica\,sans-serif"><span style="background-color:transparent\; color:rgb(0\, 0\, 0)">Please RSVP:&nbsp\;<a href="http://floralandhardyofskippack.com/events/257/sip-and-sniff-essential-oils-101-class/">http://floralandhardyofskippack.com/events/257/sip-and-sniff-essential-oils-101-class/</a></span></span></span>
LOCATION:Floral & Hardy 4007 Skippack Pike Skippack\, PA 19474
UID:e.2385.6320
SEQUENCE:3
DTSTAMP:20260421T190629Z
URL:https://business.chambergmc.org/events/details/floral-hardy-sip-and-sniff-essential-oils-101-class-05-04-2018-6320
END:VEVENT

END:VCALENDAR
