BEGIN:VCALENDAR
VERSION:2.0
PRODID:-//ChamberMaster//Event Calendar 2.0//EN
METHOD:PUBLISH
X-PUBLISHED-TTL:P3D
REFRESH-INTERVAL:P3D
CALSCALE:GREGORIAN
BEGIN:VEVENT
DTSTART:20190629T170000Z
DTEND:20190629T200000Z
X-MICROSOFT-CDO-ALLDAYEVENT:FALSE
SUMMARY:Floral & Hardy Skippack Peach Festival
DESCRIPTION:Join us at Floral & Hardy for our first SKIPPACK PEACH FESTIVAL with the GEORGIA PEACH TRUCK!!  This event kicks off at 1:00 p.m. with Skippack merchants selling yummy peach goodies and products.  At 2:30 p.m.\, the Georgia Peach Truck rolls into Floral and Hardy's parking area with their delicious peaches!!   They're selling whole boxes of Rolling Freestones \, the farm-to-street Freestone peaches from Dickey Farms in the Peach State! Share a box this summer\, and cook\, can\, or freeze a box for winter.  Georgia shelled pecans will also be available for purchase.   \n\n\nPlease click here for details and to RSVP: \n\nhttps://floralandhardyofskippack.com/events/skippack-peach-festival/
X-ALT-DESC;FMTTYPE=text/html:<div style="text-align: justify\;"><span style="background-color:transparent\; color:rgb(0\, 0\, 0)\; font-family:georgia\,palatino\,serif\; font-size:13px">Join us at Floral &amp\; Hardy for our first SKIPPACK PEACH FESTIVAL with the GEORGIA PEACH TRUCK!!&nbsp\; This event kicks off at 1:00 p.m. with Skippack merchants selling yummy peach goodies and products.&nbsp\; At 2:30 p.m.\, the Georgia Peach Truck rolls into Floral and Hardy&rsquo\;s parking area with their delicious peaches!! &nbsp\; They&rsquo\;re selling whole boxes of Rolling Freestones&reg\;\, the farm-to-street Freestone peaches from Dickey Farms in the Peach State! Share a box this summer\, and cook\, can\, or freeze a box for winter.&nbsp\; Georgia shelled pecans will also be available for purchase. &nbsp\; </span></div>\n<br />\n<span style="background-color:transparent\; color:rgb(0\, 0\, 0)\; font-family:georgia\,palatino\,serif\; font-size:13px">Please click here for details and to RSVP:&nbsp\;<br />\n<a href="https://floralandhardyofskippack.com/events/skippack-peach-festival/">https://floralandhardyofskippack.com/events/skippack-peach-festival/</a></span>
LOCATION:Floral & Hardy 4007 Skippack Pike Skippack\, PA 19474
UID:e.2385.8796
SEQUENCE:3
DTSTAMP:20260422T124348Z
URL:https://business.chambergmc.org/events/details/floral-hardy-skippack-peach-festival-8796
END:VEVENT

END:VCALENDAR
