BEGIN:VCALENDAR
VERSION:2.0
PRODID:-//ChamberMaster//Event Calendar 2.0//EN
METHOD:PUBLISH
X-PUBLISHED-TTL:P3D
REFRESH-INTERVAL:P3D
CALSCALE:GREGORIAN
BEGIN:VEVENT
DTSTART:20190921T140000Z
DTEND:20190921T200000Z
X-MICROSOFT-CDO-ALLDAYEVENT:FALSE
SUMMARY:Floral & Hardy Skippack Scarecrow Festival
DESCRIPTION:Join us for our ANNUAL SCARECROW FESTIVAL!  You'll be able to build your own life-size straw friend. Invite your family members and friends to participate in this fun fall activity!  PLEASE BRING YOUR OWN SCARECROW OUTFIT.  We'll supply the posts\, stuffing\, and other fun accessories. Come early and beat the crowd to make your new 5  straw friend.  Cost is $20 per scarecrow.  A portion of the proceeds will be donated to animal rescues.\n\n \n\nPlease RSVP: https://floralandhardyofskippack.com/events/skippack-scarecrow-festival/
X-ALT-DESC;FMTTYPE=text/html:<div style="text-align: justify\;"><span style="background-color:rgb(252\, 249\, 244)\; color:rgb(0\, 0\, 0)\; font-family:arial\,helvetica\,sans-serif">Join us for our ANNUAL SCARECROW FESTIVAL!&nbsp\; You&rsquo\;ll be able to build your own life-size straw friend. Invite your family members and friends to participate in this fun fall activity!&nbsp\; PLEASE BRING YOUR OWN SCARECROW OUTFIT.&nbsp\; We&rsquo\;ll supply the posts\, stuffing\, and other fun accessories. Come early and beat the crowd to make your new 5&prime\; straw friend.&nbsp\; Cost is $20 per scarecrow.&nbsp\; A portion of the proceeds will be donated to animal rescues.</span><br />\n&nbsp\;</div>\n\n<div><span style="background-color:rgb(252\, 249\, 244)\; color:rgb(0\, 0\, 0)\; font-family:arial\,helvetica\,sans-serif">Please RSVP:&nbsp\;<a href="https://floralandhardyofskippack.com/events/skippack-scarecrow-festival/">https://floralandhardyofskippack.com/events/skippack-scarecrow-festival/</a></span></div>\n
LOCATION:Floral & Hardy 4007 Skippack Pike Skippack\, PA 19474
UID:e.2385.10045
SEQUENCE:3
DTSTAMP:20260423T182701Z
URL:https://business.chambergmc.org/events/details/floral-hardy-skippack-scarecrow-festival-10045
END:VEVENT

END:VCALENDAR
