BEGIN:VCALENDAR
VERSION:2.0
PRODID:-//ChamberMaster//Event Calendar 2.0//EN
METHOD:PUBLISH
X-PUBLISHED-TTL:P3D
REFRESH-INTERVAL:P3D
CALSCALE:GREGORIAN
BEGIN:VEVENT
DTSTART:20190925T220000Z
DTEND:20190925T230000Z
X-MICROSOFT-CDO-ALLDAYEVENT:FALSE
SUMMARY:Floral & Hardy Spotted Lanternfly Seminar
DESCRIPTION:FREE educational seminar about the Spotted Lanternfly (SLF).  This invasive and destructive pest is a threat to plants and trees!  Our seminar will cover the invasion\, distribution and identification of SLF.  Learn about SLF quarantine areas and what you can do to control its spread.  We'll discuss the best methods for destroying SLFs and their egg masses.  All information is research based from the Penn State Cooperative Extension Program and will be presented by Master Gardener\, Sharon Gross.  \n\n\nPlease RSVP: \n\nhttps://floralandhardyofskippack.com/events/spotted-lanternfly-seminar-2/
X-ALT-DESC;FMTTYPE=text/html:<div style="text-align: justify\;"><span style="background-color:rgb(252\, 249\, 244)\; color:rgb(0\, 0\, 0)\; font-family:lora\,times new roman\,times\,serif">FREE educational seminar about the Spotted Lanternfly (SLF).&nbsp\; This invasive and destructive pest is a threat to plants and trees!&nbsp\; Our seminar will cover the invasion\, distribution and identification of SLF.&nbsp\; Learn about SLF quarantine areas and what you can do to control its spread.&nbsp\; We&rsquo\;ll discuss the best methods for destroying SLFs and their egg masses.&nbsp\; All information is research based from the Penn State Cooperative Extension Program and will be presented by Master Gardener\, Sharon Gross.&nbsp\; </span></div>\n<br />\n<span style="background-color:rgb(252\, 249\, 244)\; color:rgb(0\, 0\, 0)\; font-family:lora\,times new roman\,times\,serif">Please RSVP:&nbsp\;<br />\n<a href="https://floralandhardyofskippack.com/events/spotted-lanternfly-seminar-2/">https://floralandhardyofskippack.com/events/spotted-lanternfly-seminar-2/</a></span>
LOCATION:Floral & Hardy 4007 Skippack Pike Skippack\, PA 19474
UID:e.2385.10062
SEQUENCE:3
DTSTAMP:20260423T182328Z
URL:https://business.chambergmc.org/events/details/floral-hardy-spotted-lanternfly-seminar-10062
END:VEVENT

END:VCALENDAR
