BEGIN:VCALENDAR
VERSION:2.0
PRODID:-//ChamberMaster//Event Calendar 2.0//EN
METHOD:PUBLISH
X-PUBLISHED-TTL:P3D
REFRESH-INTERVAL:P3D
CALSCALE:GREGORIAN
BEGIN:VEVENT
DTSTART:20180324T180000Z
DTEND:20180324T190000Z
X-MICROSOFT-CDO-ALLDAYEVENT:FALSE
SUMMARY:Floral & Hardy Spring Fling Workshop - Healthy Soil\, Healthy Plants
DESCRIPTION:Healthy soil is the life-blood for having healthy garden plants.  Learn how to assess the health of your own soil at this FREE workshop.  We'll also teach you how to take a soil test and interpret the findings.  You'll be able to prepare your garden soil in time for the spring planting season!  Presentation will be given by Penn State Master Gardener\, Thom Mrazik.\n\n\nPlease RSVP: http://floralandhardyofskippack.com/events/220/spring-fling-workshop-ii-healthy-soil-healthy-plants/
X-ALT-DESC;FMTTYPE=text/html:<div style="text-align: justify\;"><span style="background-color:transparent\; color:rgb(0\, 0\, 0)\; font-family:times new roman\; font-size:13px">Healthy soil is the life-blood for having healthy garden plants.&nbsp\; Learn how to assess the health of your own soil at this FREE workshop.&nbsp\; We&rsquo\;ll also teach you how to take a soil test and interpret the findings.&nbsp\; You&rsquo\;ll be able to prepare your garden soil in time for the spring planting season!&nbsp\; Presentation will be given by Penn State Master Gardener\, Thom Mrazik.</span></div>\n<br />\n<span style="background-color:transparent\; color:rgb(0\, 0\, 0)\; font-family:times new roman\; font-size:13px">Please RSVP:&nbsp\;<a href="http://floralandhardyofskippack.com/events/220/spring-fling-workshop-ii-healthy-soil-healthy-plants/">http://floralandhardyofskippack.com/events/220/spring-fling-workshop-ii-healthy-soil-healthy-plants/</a></span>
LOCATION:Floral & Hardy 4007 Skippack Pike Skippack\, PA 19474
UID:e.2385.3041
SEQUENCE:3
DTSTAMP:20260421T164338Z
URL:https://business.chambergmc.org/events/details/floral-hardy-spring-fling-workshop-healthy-soil-healthy-plants-03-24-2018-3041
END:VEVENT

END:VCALENDAR
