BEGIN:VCALENDAR
VERSION:2.0
PRODID:-//ChamberMaster//Event Calendar 2.0//EN
METHOD:PUBLISH
X-PUBLISHED-TTL:P3D
REFRESH-INTERVAL:P3D
CALSCALE:GREGORIAN
BEGIN:VEVENT
DTSTART:20180517T223000Z
DTEND:20180517T233000Z
X-MICROSOFT-CDO-ALLDAYEVENT:FALSE
SUMMARY:Floral & Hardy Succulent Container Workshop I
DESCRIPTION:Bring your friends and create your own  personalized succulent container garden.   We'll have everything you'll need   pot\, soil mix\, stones and plants.  Cost is $39.  Decorative objects are extra.\n\n\nPlease RSVP: http://floralandhardyofskippack.com/events/244/succulent-container-workshop-i/
X-ALT-DESC;FMTTYPE=text/html:<div style="text-align: justify\;"><span style="background-color:transparent\; color:rgb(0\, 0\, 0)\; font-family:lora\,times new roman\,times\,serif\; font-size:13px">Bring your friends and create your own&nbsp\; personalized succulent container garden.&nbsp\;&nbsp\; We&rsquo\;ll have everything you&rsquo\;ll need &ndash\; pot\, soil mix\, stones and plants.&nbsp\; Cost is $39.&nbsp\; Decorative objects are extra.</span></div>\n<br />\n<span style="background-color:transparent\; color:rgb(0\, 0\, 0)\; font-family:lora\,times new roman\,times\,serif\; font-size:13px">Please RSVP:&nbsp\;<a href="http://floralandhardyofskippack.com/events/244/succulent-container-workshop-i/">http://floralandhardyofskippack.com/events/244/succulent-container-workshop-i/</a></span>
LOCATION:Floral & Hardy 4007 Skippack Pike Skippack\, PA 19474
UID:e.2385.4285
SEQUENCE:3
DTSTAMP:20260421T190347Z
URL:https://business.chambergmc.org/events/details/floral-hardy-succulent-container-workshop-i-05-17-2018-4285
END:VEVENT

END:VCALENDAR
