BEGIN:VCALENDAR
VERSION:2.0
PRODID:-//ChamberMaster//Event Calendar 2.0//EN
METHOD:PUBLISH
X-PUBLISHED-TTL:P3D
REFRESH-INTERVAL:P3D
CALSCALE:GREGORIAN
BEGIN:VEVENT
DTSTART:20190515T223000Z
DTEND:20190515T233000Z
X-MICROSOFT-CDO-ALLDAYEVENT:FALSE
SUMMARY:Floral & Hardy Succulent Container Workshop I
DESCRIPTION:Create your own personalized succulent container garden!  Bring your friends and join the succulent craze!! Succulents are cool looking plants and easy to take care of.  We'll have everything you'll need for this fun workshop   pot\, soil mix\, stones and a variety of succulent plants.  Cost is $45 plus tax.  Decorative objects are extra. \nPlease RSVP: http://floralandhardyofskippack.com/events/succulent-container-workshop-i/
X-ALT-DESC;FMTTYPE=text/html:<div style="text-align:justify"><span style="background-color:transparent\; color:rgb(0\, 0\, 0)\; font-family:lora\,times new roman\,times\,serif\; font-size:13px">Create your own personalized succulent container garden!&nbsp\; Bring your friends and join the succulent craze!! Succulents are cool looking plants and easy to take care of.&nbsp\; We&rsquo\;ll have everything you&rsquo\;ll need for this fun workshop &ndash\; pot\, soil mix\, stones and a variety of succulent plants.&nbsp\; Cost is $45 plus tax.&nbsp\; Decorative objects are extra. </span></div>\n<span style="background-color:transparent\; color:rgb(0\, 0\, 0)\; font-family:lora\,times new roman\,times\,serif\; font-size:13px">Please RSVP:&nbsp\;<a href="http://floralandhardyofskippack.com/events/succulent-container-workshop-i/">http://floralandhardyofskippack.com/events/succulent-container-workshop-i/</a></span>
LOCATION:Floral & Hardy 4007 Skippack Pike Skippack\, PA 19474
UID:e.2385.8664
SEQUENCE:3
DTSTAMP:20260422T111719Z
URL:https://business.chambergmc.org/events/details/floral-hardy-succulent-container-workshop-i-8664
END:VEVENT

END:VCALENDAR
