BEGIN:VCALENDAR
VERSION:2.0
PRODID:-//ChamberMaster//Event Calendar 2.0//EN
METHOD:PUBLISH
X-PUBLISHED-TTL:P3D
REFRESH-INTERVAL:P3D
CALSCALE:GREGORIAN
BEGIN:VEVENT
DTSTART:20180602T140000Z
DTEND:20180602T150000Z
X-MICROSOFT-CDO-ALLDAYEVENT:FALSE
SUMMARY:Floral & Hardy Succulent Container Workshop III
DESCRIPTION:Bring your friends and create your own personalized succulent container garden.  Join the succulent craze   they're cool looking plants and easy to take care of.  We'll have everything you'll need for this fun workshop   pot\, soil mix\, stones and plants.  cost is $39.  decorative objects are extra.\n\n\n\nPlease RSVP: http://floralandhardyofskippack.com/events/246/succulent-container-workshop-iii/
X-ALT-DESC;FMTTYPE=text/html:<p><span style="background-color:transparent\; color:rgb(0\, 0\, 0)\; font-family:lora\,times new roman\,times\,serif\; font-size:13px"><span style="font-size:14px">Bring your friends and create your own personalized succulent container garden.&nbsp\; Join the succulent craze &ndash\; they&rsquo\;re cool looking plants and easy to take care of.&nbsp\; We&rsquo\;ll have everything you&rsquo\;ll need for this fun workshop &ndash\; pot\, soil mix\, stones and plants.&nbsp\; cost is $39.&nbsp\; decorative objects are extra.<br />\n<br />\nPlease RSVP:</span>&nbsp\;<a href="http://floralandhardyofskippack.com/events/246/succulent-container-workshop-iii/">http://floralandhardyofskippack.com/events/246/succulent-container-workshop-iii/</a></span></p>\n
LOCATION:Floral & Hardy 4007 Skippack Pike Skippack\, PA 19474
UID:e.2385.5309
SEQUENCE:3
DTSTAMP:20260421T201900Z
URL:https://business.chambergmc.org/events/details/floral-hardy-succulent-container-workshop-iii-06-02-2018-5309
END:VEVENT

END:VCALENDAR
