BEGIN:VCALENDAR
VERSION:2.0
PRODID:-//ChamberMaster//Event Calendar 2.0//EN
METHOD:PUBLISH
X-PUBLISHED-TTL:P3D
REFRESH-INTERVAL:P3D
CALSCALE:GREGORIAN
BEGIN:VEVENT
DTSTART:20180721T140000Z
DTEND:20180721T150000Z
X-MICROSOFT-CDO-ALLDAYEVENT:FALSE
SUMMARY:Floral & Hardy - Succulent Mini Garden Workshop II
DESCRIPTION:Make your own mini succulent garden! It's a fun summer activity for both kids and adults!! Create a theme and personalize your design by adding cool mini objects. We'll provide the pot\, soil mix\, plants and stones. Cost is $20 for a small pot and $35 for a larger pot. Mini objects are extra. Bring a box to take your creation home. \n \n\nPlease RSVP: http://floralandhardyofskippack.com/events/273/succulent-mini-garden-workshop-ii/
X-ALT-DESC;FMTTYPE=text/html:<div style="text-align: justify\;"><span style="background-color:transparent\; color:rgb(0\, 0\, 0)\; font-family:lora\,times new roman\,times\,serif\; font-size:13px">Make your own mini succulent garden! It&rsquo\;s a fun summer activity for both kids and adults!! Create a theme and personalize your design by adding cool mini objects. We&rsquo\;ll provide the pot\, soil mix\, plants and stones. Cost is $20 for a small pot and $35 for a larger pot. Mini objects are extra. Bring a box to take your creation home. </span></div>\n&nbsp\;\n\n<div><span style="background-color:transparent\; color:rgb(0\, 0\, 0)\; font-family:lora\,times new roman\,times\,serif\; font-size:13px">Please RSVP:&nbsp\;<a href="http://floralandhardyofskippack.com/events/273/succulent-mini-garden-workshop-ii/">http://floralandhardyofskippack.com/events/273/succulent-mini-garden-workshop-ii/</a></span></div>\n
LOCATION:Floral & Hardy 4007 Skippack Pike Skippack\, PA 19474
UID:e.2385.7844
SEQUENCE:3
DTSTAMP:20260421T214331Z
URL:https://business.chambergmc.org/events/details/floral-hardy-succulent-mini-garden-workshop-ii-7844
END:VEVENT

END:VCALENDAR
