BEGIN:VCALENDAR
VERSION:2.0
PRODID:-//ChamberMaster//Event Calendar 2.0//EN
METHOD:PUBLISH
X-PUBLISHED-TTL:P3D
REFRESH-INTERVAL:P3D
CALSCALE:GREGORIAN
BEGIN:VEVENT
DTSTART:20190124T233000Z
DTEND:20190125T003000Z
X-MICROSOFT-CDO-ALLDAYEVENT:FALSE
SUMMARY:Floral & Hardy Succulent Terrarium Workshop I
DESCRIPTION:Liven up your home this winter with a succulent terrarium!  Join us at F&H for this fun workshop and build your own miniature indoor garden.  We'll provide the glass bowl with the necessary medium and your choice of 3 mini succulent plants.  Choose one FREE mini object to add to your terrarium!  Finish off your design with colored sand and decorative stones. Cost is $35 (8  bowl) or $45 (10  bowl).  Bring a box to take your creation home. \n\n \nPlease RSVP:\n\nhttp://floralandhardyofskippack.com/events/succulent-terrarium-workshop-i/
X-ALT-DESC;FMTTYPE=text/html:<div style="text-align:justify"><span style="background-color:transparent\; color:rgb(0\, 0\, 0)\; font-family:arial\,helvetica\,sans-serif\; font-size:13px">Liven up your home this winter with a succulent terrarium!&nbsp\; Join us at F&amp\;H for this fun workshop and build your own miniature indoor garden.&nbsp\; We&rsquo\;ll provide the glass bowl with the necessary medium and your choice of 3 mini succulent plants.&nbsp\; Choose one FREE mini object to add to your terrarium!&nbsp\; Finish off your design with colored sand and decorative stones. Cost is $35 (8&Prime\; bowl) or $45 (10&Prime\; bowl).&nbsp\; Bring a box to take your creation home. </span><br />\n&nbsp\;</div>\n<span style="font-family:arial\,helvetica\,sans-serif">Please RSVP</span>:<br />\n<a href="http://floralandhardyofskippack.com/events/succulent-terrarium-workshop-i/">http://floralandhardyofskippack.com/events/succulent-terrarium-workshop-i/</a>
LOCATION:Floral & Hardy 4007 Skippack Pike Skippack\, PA 19474
UID:e.2385.8126
SEQUENCE:3
DTSTAMP:20260422T053542Z
URL:https://business.chambergmc.org/events/details/floral-hardy-succulent-terrarium-workshop-i-8126
END:VEVENT

END:VCALENDAR
