BEGIN:VCALENDAR
VERSION:2.0
PRODID:-//ChamberMaster//Event Calendar 2.0//EN
METHOD:PUBLISH
X-PUBLISHED-TTL:P3D
REFRESH-INTERVAL:P3D
CALSCALE:GREGORIAN
BEGIN:VEVENT
DTSTART:20200125T150000Z
DTEND:20200125T160000Z
X-MICROSOFT-CDO-ALLDAYEVENT:FALSE
SUMMARY:Floral & Hardy Succulent Terrarium Workshop II
DESCRIPTION:Liven up your home this winter with a succulent terrarium!  Join us at F&H for this fun workshop and build your own miniature indoor garden.  We'll provide the glass bowl with the necessary medium and your choice of 3 mini succulent plants.  Finish off your design with colored sand and decorative stones. Cost is $35 (8  bowl) or $45 (10  bowl).  Bring a box to take your creation home.\n\n\n\nPlease RSVP:https://floralandhardyofskippack.com/events/succulent-terrarium-workshop-ii-2/
X-ALT-DESC;FMTTYPE=text/html:<em>Liven up your home this winter with a succulent terrarium!</em><span style="color:rgb(71\, 71\, 71)\; font-family:arial\,helvetica\,sans-serif\; font-size:14px">&nbsp\; Join us at F&amp\;H for this fun workshop and build your own miniature indoor garden.&nbsp\; We&rsquo\;ll provide the glass bowl with the necessary medium and your choice of 3 mini succulent plants.&nbsp\; Finish off your design with colored sand and decorative stones. Cost is $35 (8&Prime\; bowl) or $45 (10&Prime\; bowl).&nbsp\; Bring a box to take your creation home.<br />\n<br />\nPlease RSVP:<a href="https://floralandhardyofskippack.com/events/succulent-terrarium-workshop-ii-2/">https://floralandhardyofskippack.com/events/succulent-terrarium-workshop-ii-2/</a></span><br />\n&nbsp\;
LOCATION:Floral & Hardy 4007 Skippack Pike Skippack\, PA 19474
UID:e.2385.10210
SEQUENCE:3
DTSTAMP:20260423T145310Z
URL:https://business.chambergmc.org/events/details/floral-hardy-succulent-terrarium-workshop-ii-01-25-2020-10210
END:VEVENT

END:VCALENDAR
