BEGIN:VCALENDAR
VERSION:2.0
PRODID:-//ChamberMaster//Event Calendar 2.0//EN
METHOD:PUBLISH
X-PUBLISHED-TTL:P3D
REFRESH-INTERVAL:P3D
CALSCALE:GREGORIAN
BEGIN:VEVENT
DTSTART:20180419T223000Z
DTEND:20180419T233000Z
X-MICROSOFT-CDO-ALLDAYEVENT:FALSE
SUMMARY:Floral & Hardy Succulents & Sipping
DESCRIPTION:Join Floral & Hardy of Skippack for a night of Succulents & Sipping. Make a succulent terrarium inside a mason jar during this fun workshop!  Grab your friends and enjoy indoor gardening while sipping some delicious wine.  We'll have all the necessary supplies for you\, including: mason jar\, stones\, sand\, soil\, moss\, little objects\, and  mini succulents.   Cost is $35 per person   includes a glass of wine.\n\n\n\nPlease RSVP:  http://floralandhardyofskippack.com/events/252/succuelnts-sipping-at-cardinal-hollow-winery/
X-ALT-DESC;FMTTYPE=text/html:<span style="background-color:transparent\; color:rgb(0\, 0\, 0)\; font-family:lora\,times new roman\,times\,serif\; font-size:13px">Join Floral &amp\; Hardy of Skippack for a night of Succulents &amp\; Sipping. Make a succulent terrarium inside a mason jar during this fun workshop!&nbsp\; Grab your friends and enjoy indoor gardening while sipping some delicious wine.&nbsp\; We&rsquo\;ll have all the necessary supplies for you\, including: mason jar\, stones\, sand\, soil\, moss\, little objects\, and&nbsp\; mini succulents. &nbsp\; Cost is $35 per person &ndash\; includes a glass of wine.<br />\n<br />\nPlease RSVP: &nbsp\;<a href="http://floralandhardyofskippack.com/events/252/succuelnts-sipping-at-cardinal-hollow-winery/">http://floralandhardyofskippack.com/events/252/succuelnts-sipping-at-cardinal-hollow-winery/</a></span>
LOCATION:Floral & Hardy 4007 Skippack Pike Skippack\, PA 19474
UID:e.2385.4293
SEQUENCE:3
DTSTAMP:20260421T174952Z
URL:https://business.chambergmc.org/events/details/floral-hardy-succulents-sipping-04-19-2018-4293
END:VEVENT

END:VCALENDAR
