BEGIN:VCALENDAR
VERSION:2.0
PRODID:-//ChamberMaster//Event Calendar 2.0//EN
METHOD:PUBLISH
X-PUBLISHED-TTL:P3D
REFRESH-INTERVAL:P3D
CALSCALE:GREGORIAN
BEGIN:VEVENT
DTSTART:20190110T233000Z
DTEND:20190111T003000Z
X-MICROSOFT-CDO-ALLDAYEVENT:FALSE
SUMMARY:Floral & Hardy Succulents & Suds Workshop
DESCRIPTION:Join us for this fun off-site workshop at Brothers Kershner Brewing Co. in Skippack!  Grab some friends and enjoy a complimentary glass of beer in their taproom while you're planting.  Create your own decorative succulent container\, using three mini succulent plants\, moss and stones.  Cost is $30 per person plus tax (total of $31.80).  A glass of beer is included in the price.  \n\n \n\nPlease RSVP: http://floralandhardyofskippack.com/events/succulents-suds-workshop/
X-ALT-DESC;FMTTYPE=text/html:<div style="text-align:justify"><span style="background-color:transparent\; color:rgb(0\, 0\, 0)\; font-family:lora\,times new roman\,times\,serif\; font-size:13px">Join us for this fun off-site workshop at Brothers Kershner Brewing Co. in Skippack!&nbsp\; Grab some friends and enjoy a complimentary glass of beer in their taproom while you&rsquo\;re planting.&nbsp\; Create your own decorative succulent container\, using three mini succulent plants\, moss and stones.&nbsp\; Cost is $30 per person plus tax (total of $31.80).&nbsp\; A glass of beer is included in the price.&nbsp\; </span></div>\n\n<div>&nbsp\;</div>\n\n<div><span style="background-color:transparent\; color:rgb(0\, 0\, 0)\; font-family:lora\,times new roman\,times\,serif\; font-size:13px">Please RSVP:&nbsp\;<a href="http://floralandhardyofskippack.com/events/succulents-suds-workshop/">http://floralandhardyofskippack.com/events/succulents-suds-workshop/</a></span></div>\n
LOCATION:Floral & Hardy 4007 Skippack Pike Skippack\, PA 19474
UID:e.2385.8110
SEQUENCE:3
DTSTAMP:20260422T053521Z
URL:https://business.chambergmc.org/events/details/floral-hardy-succulents-suds-workshop-8110
END:VEVENT

END:VCALENDAR
