BEGIN:VCALENDAR
VERSION:2.0
PRODID:-//ChamberMaster//Event Calendar 2.0//EN
METHOD:PUBLISH
X-PUBLISHED-TTL:P3D
REFRESH-INTERVAL:P3D
CALSCALE:GREGORIAN
BEGIN:VEVENT
DTSTART:20180512T140000Z
DTEND:20180512T150000Z
X-MICROSOFT-CDO-ALLDAYEVENT:FALSE
SUMMARY:Floral & Hardy - Summer Container Workshop II
DESCRIPTION:Join us for this fun workshop and make a summer container\, using a variety of colorful plants.  We'll help you design your own front door or porch masterpiece.  Cost is $45 and $35.  Pricing is "a la carte" if you bring your own container. \n\n\nPlease RSVP: http://floralandhardyofskippack.com/events/243/summer-container-workshop-ii/
X-ALT-DESC;FMTTYPE=text/html:<div style="text-align: justify\;"><span style="background-color:transparent\; color:rgb(0\, 0\, 0)\; font-family:lora\,times new roman\,times\,serif\; font-size:13px">Join us for this fun workshop and make a summer container\, using a variety of colorful plants.&nbsp\; We&rsquo\;ll help you design your own front door or porch masterpiece.&nbsp\; Cost is $45 and $35.&nbsp\; Pricing is &ldquo\;a la carte&rdquo\; if you bring your own container. </span></div>\n<br />\n<span style="background-color:transparent\; color:rgb(0\, 0\, 0)\; font-family:lora\,times new roman\,times\,serif\; font-size:13px">Please RSVP:&nbsp\;<a href="http://floralandhardyofskippack.com/events/243/summer-container-workshop-ii/">http://floralandhardyofskippack.com/events/243/summer-container-workshop-ii/</a></span>
LOCATION:Floral & Hardy 4007 Skippack Pike Skippack\, PA 19474
UID:e.2385.3278
SEQUENCE:3
DTSTAMP:20260421T201900Z
URL:https://business.chambergmc.org/events/details/floral-hardy-summer-container-workshop-ii-05-12-2018-3278
END:VEVENT

END:VCALENDAR
