BEGIN:VCALENDAR
VERSION:2.0
PRODID:-//ChamberMaster//Event Calendar 2.0//EN
METHOD:PUBLISH
X-PUBLISHED-TTL:P3D
REFRESH-INTERVAL:P3D
CALSCALE:GREGORIAN
BEGIN:VEVENT
DTSTART:20180418T223000Z
DTEND:20180418T233000Z
X-MICROSOFT-CDO-ALLDAYEVENT:FALSE
SUMMARY:Floral & Hardy - The Beloved Peony
DESCRIPTION:Join us for this FREE wine & cheese class and find out interesting facts about Peonies.  Humans have revered the Peony for millennia.  Learn about the Peony plant parts. And\, learn about its flower types\, care and how to properly plant and divide the Peony.  Presentation will be given by Penn State Master Gardener\, Thom Mrazik.\n\n\n\nPlease RSVP: http://floralandhardyofskippack.com/events/223/the-beloved-peony/
X-ALT-DESC;FMTTYPE=text/html:<span style="background-color:transparent\; color:rgb(0\, 0\, 0)\; font-family:lora\,times new roman\,times\,serif\; font-size:13px">Join us for this FREE wine &amp\; cheese class and find out interesting facts about Peonies.&nbsp\; Humans have revered the Peony for millennia.&nbsp\; Learn about the Peony plant parts. And\, learn about its flower types\, care and how to properly plant and divide the Peony.&nbsp\; Presentation will be given by Penn State Master Gardener\, Thom Mrazik.<br />\n<br />\nPlease RSVP:&nbsp\;<a href="http://floralandhardyofskippack.com/events/223/the-beloved-peony/">http://floralandhardyofskippack.com/events/223/the-beloved-peony/</a></span>
LOCATION:Floral & Hardy 4007 Skippack Pike Skippack\, PA 19474
UID:e.2385.3049
SEQUENCE:3
DTSTAMP:20260421T174850Z
URL:https://business.chambergmc.org/events/details/floral-hardy-the-beloved-peony-04-18-2018-3049
END:VEVENT

END:VCALENDAR
