BEGIN:VCALENDAR
VERSION:2.0
PRODID:-//ChamberMaster//Event Calendar 2.0//EN
METHOD:PUBLISH
X-PUBLISHED-TTL:P3D
REFRESH-INTERVAL:P3D
CALSCALE:GREGORIAN
BEGIN:VEVENT
DTSTART:20180523T223000Z
DTEND:20180523T233000Z
X-MICROSOFT-CDO-ALLDAYEVENT:FALSE
SUMMARY:Floral & Hardy - Unusual Annuals
DESCRIPTION:Learn about unusual annuals at this FREE wine and cheese class.  We'll talk about some interesting varieties such as the shrimp plant 'Fruit Cocktail' (see image below).  Annuals are a great way to add color and variety to your gardens from spring until fall.  Presentation will be given by Penn State Master Gardener\, Susan Doblmaier. \n\n \nPlease RSVP: http://floralandhardyofskippack.com/events/240/unusual-annuals/
X-ALT-DESC;FMTTYPE=text/html:<div style="text-align:justify"><span style="background-color:transparent\; color:rgb(0\, 0\, 0)\; font-family:lora\,times new roman\,times\,serif\; font-size:13px">Learn about unusual annuals at&nbsp\;this FREE wine and cheese class.&nbsp\; We&rsquo\;ll talk about some interesting varieties such as the shrimp plant &lsquo\;Fruit Cocktail&rsquo\; (see image below).&nbsp\; Annuals are a great way to add color and variety to your gardens from spring until fall.&nbsp\; Presentation will be given by Penn State Master Gardener\, Susan Doblmaier. </span><br />\n&nbsp\;</div>\n<span style="background-color:transparent\; color:rgb(0\, 0\, 0)\; font-family:lora\,times new roman\,times\,serif\; font-size:13px">Please RSVP:&nbsp\;<a href="http://floralandhardyofskippack.com/events/240/unusual-annuals/">http://floralandhardyofskippack.com/events/240/unusual-annuals/</a></span>
LOCATION:Floral & Hardy 4007 Skippack Pike Skippack\, PA 19474
UID:e.2385.3276
SEQUENCE:3
DTSTAMP:20260421T190610Z
URL:https://business.chambergmc.org/events/details/floral-hardy-unusual-annuals-05-23-2018-3276
END:VEVENT

END:VCALENDAR
