BEGIN:VCALENDAR
VERSION:2.0
PRODID:-//ChamberMaster//Event Calendar 2.0//EN
METHOD:PUBLISH
X-PUBLISHED-TTL:P3D
REFRESH-INTERVAL:P3D
CALSCALE:GREGORIAN
BEGIN:VEVENT
DTSTART:20190605T223000Z
DTEND:20190605T233000Z
X-MICROSOFT-CDO-ALLDAYEVENT:FALSE
SUMMARY:Floral & Hardy Vegetable Container Gardening Class
DESCRIPTION:Learn how to successfully grow vegetables in containers during this free wine & cheese class.  Container gardening is a great choice if you have limited space or just like the convenience.  We'll cover the best vegetable choices for containers and discuss various container options.  Presentation will be given by Penn State Master Gardener\, Leslie Bass.  \n\n \nPlease RSVP: https://floralandhardyofskippack.com/events/vegetable-container-gardening/
X-ALT-DESC;FMTTYPE=text/html:<div style="text-align: justify\;"><span style="background-color:transparent\; color:rgb(0\, 0\, 0)\; font-family:arial\,helvetica\,sans-serif\; font-size:13px">Learn how to successfully grow vegetables in containers during this free wine &amp\; cheese class.&nbsp\; Container gardening is a great choice if you have limited space or just like the convenience.&nbsp\; We&rsquo\;ll cover the best vegetable choices for containers and discuss various container options.&nbsp\; Presentation will be given by Penn State Master Gardener\, Leslie Bass.&nbsp\; </span><br />\n&nbsp\;</div>\n<span style="background-color:transparent\; color:rgb(0\, 0\, 0)\; font-family:arial\,helvetica\,sans-serif\; font-size:13px">Please RSVP:&nbsp\;<a href="https://floralandhardyofskippack.com/events/vegetable-container-gardening/">https://floralandhardyofskippack.com/events/vegetable-container-gardening/</a></span>
LOCATION:Floral & Hardy 4007 Skippack Pike Skippack\, PA 19474
UID:e.2385.8705
SEQUENCE:3
DTSTAMP:20260422T123535Z
URL:https://business.chambergmc.org/events/details/floral-hardy-vegetable-container-gardening-class-8705
END:VEVENT

END:VCALENDAR
