BEGIN:VCALENDAR
VERSION:2.0
PRODID:-//ChamberMaster//Event Calendar 2.0//EN
METHOD:PUBLISH
X-PUBLISHED-TTL:P3D
REFRESH-INTERVAL:P3D
CALSCALE:GREGORIAN
BEGIN:VEVENT
DTSTART:20180426T223000Z
DTEND:20180426T233000Z
X-MICROSOFT-CDO-ALLDAYEVENT:FALSE
SUMMARY:Floral & Hardy - Vertical Succulent Garden Workshop I
DESCRIPTION:Join us for this cool NEW workshop!  Make your own living succulent wall art\, using a 6 inch square wooden frame.  Grow a variety of mini succulents in individual planting cells.  Hang it on a wall for a picture frame look!  We'll supply all of the materials.  Please bring your own wire cutters and gloves. Cost is $39 per person.  PRE-PAY ONLY.\n\n \n\nPlease RSVP: http://floralandhardyofskippack.com/events/259/vertical-succulent-garden-workshop-i/
X-ALT-DESC;FMTTYPE=text/html:<div style="text-align:justify"><span style="font-size:14px"><span style="background-color:transparent\; color:rgb(0\, 0\, 0)\; font-family:arial\,helvetica\,sans-serif">Join us for this cool NEW workshop!&nbsp\; Make your own living succulent wall art\, using a 6 inch square wooden frame.&nbsp\; Grow a variety of mini succulents in individual planting cells.&nbsp\; Hang it on a wall for a picture frame look!&nbsp\; We&rsquo\;ll supply all of the materials.&nbsp\; Please bring your own wire cutters and gloves. Cost is $39 per person.&nbsp\; PRE-PAY ONLY.</span></span><br />\n&nbsp\;</div>\n\n<div><span style="font-size:14px"><span style="background-color:transparent\; color:rgb(0\, 0\, 0)\; font-family:arial\,helvetica\,sans-serif">Please RSVP: </span></span>http://floralandhardyofskippack.com/events/259/vertical-succulent-garden-workshop-i/<span style="font-size:14px"><span style="background-color:transparent\; color:rgb(0\, 0\, 0)\; font-family:arial\,helvetica\,sans-serif">&nbsp\;</span></span></div>\n
LOCATION:Floral & Hardy 4007 Skippack Pike Skippack\, PA 19474
UID:e.2385.6588
SEQUENCE:3
DTSTAMP:20260421T174753Z
URL:https://business.chambergmc.org/events/details/floral-hardy-vertical-succulent-garden-workshop-i-04-26-2018-6588
END:VEVENT

END:VCALENDAR
