BEGIN:VCALENDAR
VERSION:2.0
PRODID:-//ChamberMaster//Event Calendar 2.0//EN
METHOD:PUBLISH
X-PUBLISHED-TTL:P3D
REFRESH-INTERVAL:P3D
CALSCALE:GREGORIAN
BEGIN:VEVENT
DTSTART:20180524T223000Z
DTEND:20180524T233000Z
X-MICROSOFT-CDO-ALLDAYEVENT:FALSE
SUMMARY:Floral & Hardy - Vertical Succulent Garden Workshop II
DESCRIPTION:Join us for this cool NEW workshop!  Make your own living succulent wall art\, using a 6 inch square wooden frame.  Grow a variety of mini succulents in individual planting cells.  Hang it on a wall for a picture frame look!  We'll supply all of the materials.  Please bring your own wire cutters and gloves. Cost is $39 per person.  PRE-PAY ONLY.  \n\nPlease RSVP: http://floralandhardyofskippack.com/events/260/vertical-succulent-garden-workshop-ii/
X-ALT-DESC;FMTTYPE=text/html:<p style="margin-left:0px\; margin-right:0px\; text-align:justify"><span style="font-size:14px"><span style="background-color:transparent\; color:rgb(0\, 0\, 0)">Join us for this cool NEW workshop!&nbsp\; Make your own living succulent wall art\, using a 6 inch square wooden frame.&nbsp\; Grow a variety of mini succulents in individual planting cells.&nbsp\; Hang it on a wall for a picture frame look!&nbsp\; We&rsquo\;ll supply all of the materials.&nbsp\; Please bring your own wire cutters and gloves. Cost is $39 per person.&nbsp\; PRE-PAY ONLY.&nbsp\; </span></span></p>\n\n<p style="margin-right: 0px\; margin-left: 0px\;"><span style="font-size:14px"><span style="background-color:transparent\; color:rgb(0\, 0\, 0)">Please RSVP:&nbsp\;<a href="http://floralandhardyofskippack.com/events/260/vertical-succulent-garden-workshop-ii/">http://floralandhardyofskippack.com/events/260/vertical-succulent-garden-workshop-ii/</a></span></span></p>\n
LOCATION:Floral & Hardy 4007 Skippack Pike Skippack\, PA 19474
UID:e.2385.6589
SEQUENCE:3
DTSTAMP:20260421T190628Z
URL:https://business.chambergmc.org/events/details/floral-hardy-vertical-succulent-garden-workshop-ii-05-24-2018-6589
END:VEVENT

END:VCALENDAR
