BEGIN:VCALENDAR
VERSION:2.0
PRODID:-//ChamberMaster//Event Calendar 2.0//EN
METHOD:PUBLISH
X-PUBLISHED-TTL:P3D
REFRESH-INTERVAL:P3D
CALSCALE:GREGORIAN
BEGIN:VEVENT
DTSTART:20180328T223000Z
DTEND:20180328T233000Z
X-MICROSOFT-CDO-ALLDAYEVENT:FALSE
SUMMARY:Floral & Hardy - What's New in the Garden?
DESCRIPTION:Kick off the 2018 gardening season with perennial diva\, Stephanie Cohen.  Join us for this special evening of fun\, plants\, wine & cheese.   Stephanie will talk about our new plants for 2018 and answer all of your questions on perennials and more.  She will be available for a book signing after her presentation.  Please RSVP early since our room will fill up quickly. You'll be able to pre-order your plants after the event as well.  \n\n \n\nPlease RSVP: http://floralandhardyofskippack.com/events/217/whats-new-in-the-garden/
X-ALT-DESC;FMTTYPE=text/html:<div style="text-align:justify"><span style="background-color:transparent\; color:rgb(0\, 0\, 0)\; font-family:lora\,times new roman\,times\,serif\; font-size:13px">Kick off the 2018 gardening season with perennial diva\, Stephanie Cohen. &nbsp\;Join us for this special evening of fun\, plants\, wine &amp\; cheese. &nbsp\; Stephanie will talk about our new plants for 2018 and answer all of your questions on perennials and more. &nbsp\;She will be available for a book signing after her presentation. &nbsp\;Please RSVP early since our room will fill up quickly. You&rsquo\;ll be able to pre-order your plants after the event as well. &nbsp\;</span><br />\n&nbsp\;</div>\n\n<div><span style="background-color:transparent\; color:rgb(0\, 0\, 0)\; font-family:lora\,times new roman\,times\,serif\; font-size:13px">Please RSVP:&nbsp\;<a href="http://floralandhardyofskippack.com/events/217/whats-new-in-the-garden/">http://floralandhardyofskippack.com/events/217/whats-new-in-the-garden/</a></span></div>\n
LOCATION:Floral & Hardy 4007 Skippack Pike Skippack\, PA 19474
UID:e.2385.3042
SEQUENCE:3
DTSTAMP:20260421T164415Z
URL:https://business.chambergmc.org/events/details/floral-hardy-what-s-new-in-the-garden-03-28-2018-3042
END:VEVENT

END:VCALENDAR
