BEGIN:VCALENDAR
VERSION:2.0
PRODID:-//ChamberMaster//Event Calendar 2.0//EN
METHOD:PUBLISH
X-PUBLISHED-TTL:P3D
REFRESH-INTERVAL:P3D
CALSCALE:GREGORIAN
BEGIN:VEVENT
DTSTART:20190306T233000Z
DTEND:20190307T003000Z
X-MICROSOFT-CDO-ALLDAYEVENT:FALSE
SUMMARY:Floral & Hardy What's New in the Garden?
DESCRIPTION:Kick off the 2019 gardening season with perennial diva\, Stephanie Cohen.  Join us for this special evening of fun\, plants\, wine & cheese.  Stephanie will talk about our new plants for 2019 and answer all of your questions on perennials and more.  She will be available for a book signing after her presentation.  We'll also have a raffle for one of her famous books that evening. \nPlease RSVP:https://floralandhardyofskippack.com/events/whats-new-in-the-garden/
X-ALT-DESC;FMTTYPE=text/html:<div style="text-align: justify\;"><span style="background-color:transparent\; color:rgb(0\, 0\, 0)\; font-family:lora\,times new roman\,times\,serif\; font-size:13px">Kick off the 2019 gardening season with perennial diva\, Stephanie Cohen. &nbsp\;Join us for this special evening of fun\, plants\, wine &amp\; cheese.&nbsp\; Stephanie will talk about our new plants for 2019 and answer all of your questions on perennials and more. &nbsp\;She will be available for a book signing after her presentation.&nbsp\; We&rsquo\;ll also have a raffle for one of her famous books that evening. </span></div>\n<span style="background-color:transparent\; color:rgb(0\, 0\, 0)\; font-family:lora\,times new roman\,times\,serif\; font-size:13px">Please RSVP:<a href="https://floralandhardyofskippack.com/events/whats-new-in-the-garden/">https://floralandhardyofskippack.com/events/whats-new-in-the-garden/</a></span>
LOCATION:Floral & Hardy 4007 Skippack Pike Skippack\, PA 19474
UID:e.2385.8177
SEQUENCE:3
DTSTAMP:20260422T083138Z
URL:https://business.chambergmc.org/events/details/floral-hardy-what-s-new-in-the-garden-8177
END:VEVENT

END:VCALENDAR
