BEGIN:VCALENDAR
VERSION:2.0
PRODID:-//ChamberMaster//Event Calendar 2.0//EN
METHOD:PUBLISH
X-PUBLISHED-TTL:P3D
REFRESH-INTERVAL:P3D
CALSCALE:GREGORIAN
BEGIN:VEVENT
DTSTART:20180620T223000Z
DTEND:20180620T233000Z
X-MICROSOFT-CDO-ALLDAYEVENT:FALSE
SUMMARY:Floral & Hardy - Why Natives?
DESCRIPTION:Join us for this FREE wine and cheese event where you'll learn about the benefits of native plants.  Find out why it makes sense to plant natives and how to incorporate them into your landscape. We'll also talk about the different types of native plants that are available in our area.  Presentation will be given by Penn State Master Gardener\, Susan Doblmaier.\n\n\n\nPlease RSVP: http://floralandhardyofskippack.com/events/254/why-native/
X-ALT-DESC;FMTTYPE=text/html:<span style="background-color:transparent\; color:rgb(0\, 0\, 0)\; font-family:lora\,times new roman\,times\,serif\; font-size:13px"><span style="font-size:12px"><span style="font-family:arial\,helvetica\,sans-serif">Join us for this FREE wine&nbsp\;and cheese event where you&rsquo\;ll learn about the benefits of native plants.&nbsp\; Find out why&nbsp\;it makes sense to plant natives and&nbsp\;how to incorporate them into your landscape.&nbsp\;We&rsquo\;ll also talk about&nbsp\;the different types of&nbsp\;native plants that are available in our area.&nbsp\; Presentation will be given by Penn State Master Gardener\, Susan Doblmaier.</span></span><br />\n<br />\n<span style="font-family:arial\,helvetica\,sans-serif">Please RSVP:</span>&nbsp\;<a href="http://floralandhardyofskippack.com/events/254/why-native/">http://floralandhardyofskippack.com/events/254/why-native/</a></span>
LOCATION:Floral & Hardy 4007 Skippack Pike Skippack\, PA 19474
UID:e.2385.5311
SEQUENCE:3
DTSTAMP:20260421T202012Z
URL:https://business.chambergmc.org/events/details/floral-hardy-why-natives-06-20-2018-5311
END:VEVENT

END:VCALENDAR
