BEGIN:VCALENDAR
VERSION:2.0
PRODID:-//ChamberMaster//Event Calendar 2.0//EN
METHOD:PUBLISH
X-PUBLISHED-TTL:P3D
REFRESH-INTERVAL:P3D
CALSCALE:GREGORIAN
BEGIN:VEVENT
DTSTART:20191203T233000Z
DTEND:20191204T003000Z
X-MICROSOFT-CDO-ALLDAYEVENT:FALSE
SUMMARY:Floral & Hardy Winter Container Workshop III
DESCRIPTION:Design your own festive winter container!   Join us for this fun holiday workshop and we'll supply all of the materials.  You'll get to choose from a variety of evergreens\, winterberry\, holly and other seasonal items for your design.  Cost is $49 plus tax. Pricing is   la carte for materials and soil if you bring your own container.  \n\n\nPlease RSVP: https://floralandhardyofskippack.com/events/winter-container-workshop-iii/
X-ALT-DESC;FMTTYPE=text/html:<div style="text-align: justify\;"><span style="background-color:rgb(252\, 249\, 244)\; color:rgb(0\, 0\, 0)\; font-family:arial\,helvetica\,sans-serif">Design your own festive winter container!&nbsp\; &nbsp\;Join us for this fun holiday workshop and we&rsquo\;ll supply all of the materials.&nbsp\; You&rsquo\;ll get to choose from a variety of evergreens\, winterberry\, holly and other seasonal items for your design.&nbsp\; Cost is $49 plus tax. Pricing is &agrave\; la carte for materials and soil if you bring your own container.&nbsp\; </span></div>\n<br />\n<span style="background-color:rgb(252\, 249\, 244)\; color:rgb(0\, 0\, 0)\; font-family:arial\,helvetica\,sans-serif">Please RSVP:&nbsp\;<a href="https://floralandhardyofskippack.com/events/winter-container-workshop-iii/">https://floralandhardyofskippack.com/events/winter-container-workshop-iii/</a></span>
LOCATION:Floral & Hardy 4007 Skippack Pike Skippack\, PA 19474
UID:e.2385.10139
SEQUENCE:3
DTSTAMP:20260423T160539Z
URL:https://business.chambergmc.org/events/details/floral-hardy-winter-container-workshop-iii-10139
END:VEVENT

END:VCALENDAR
