BEGIN:VCALENDAR
VERSION:2.0
PRODID:-//ChamberMaster//Event Calendar 2.0//EN
METHOD:PUBLISH
X-PUBLISHED-TTL:P3D
REFRESH-INTERVAL:P3D
CALSCALE:GREGORIAN
BEGIN:VEVENT
DTSTART:20191012T140000Z
DTEND:20191013T200000Z
X-MICROSOFT-CDO-ALLDAYEVENT:FALSE
SUMMARY:Floral & Hardy Wood Pumpkin Painting Weekend
DESCRIPTION:Join us for our annual Wood Pumpkin Painting Event!  Both kids and adults are welcome at our pumpkin painting open house anytime on Saturday or Sunday between 10 a.m. to 4 p.m.  It's a great fall decoration for your front yard!  Cost is $10 per pumpkin. Bring a smock or wear clothes suitable for painting. \n\n \n\nPlease RSVP:\n\nhttps://floralandhardyofskippack.com/events/wood-pumpkin-painting-weekend/
X-ALT-DESC;FMTTYPE=text/html:<p style="text-align: justify\;"><span style="font-family:arial\,helvetica\,sans-serif">Join us for our annual Wood Pumpkin Painting Event!&nbsp\; Both kids and adults are welcome at our pumpkin painting open house anytime on Saturday or Sunday between 10 a.m.&nbsp\;to 4&nbsp\;p.m.&nbsp\; It&rsquo\;s a great fall decoration for your front yard!&nbsp\; Cost is $10 per pumpkin.&nbsp\;<em>Bring a smock or&nbsp\;</em><em>wear clothes suitable for painting.</em>&nbsp\;</span></p>\n\n<p style="text-align:justify">&nbsp\;</p>\n\n<p>Please RSVP:<br />\n<a href="https://floralandhardyofskippack.com/events/wood-pumpkin-painting-weekend/" style="font-family: arial\, helvetica\, sans-serif\; text-align: justify\;">https://floralandhardyofskippack.com/events/wood-pumpkin-painting-weekend/</a></p>\n\n<div>&nbsp\;</div>\n
LOCATION:Floral & Hardy 4007 Skippack Pike Skippack\, PA 19474 Your Street Address
UID:e.2385.10075
SEQUENCE:3
DTSTAMP:20260423T182802Z
URL:https://business.chambergmc.org/events/details/floral-hardy-wood-pumpkin-painting-weekend-10-12-2019-10075
END:VEVENT

END:VCALENDAR
