BEGIN:VCALENDAR
VERSION:2.0
PRODID:-//ChamberMaster//Event Calendar 2.0//EN
METHOD:PUBLISH
X-PUBLISHED-TTL:P3D
REFRESH-INTERVAL:P3D
CALSCALE:GREGORIAN
BEGIN:VEVENT
DTSTART:20181120T150000Z
DTEND:20181120T160000Z
X-MICROSOFT-CDO-ALLDAYEVENT:FALSE
SUMMARY:Floral & Hardy Wreath Decorating Workshop I
DESCRIPTION:Get into the holiday spirit with our wreath decorating workshop! We'll help you decorate your own wreath\, using fresh evergreens\, winterberry and other adornments. Perfect for your front door!  Bring your own gardening gloves and pruners or purchase them from us at a discount.  Cost is $45.\n\n \n\nPlease RSVP: http://floralandhardyofskippack.com/events/304/wreath-decorating-workshop-i/
X-ALT-DESC;FMTTYPE=text/html:<div style="text-align:justify"><span style="font-size:14px"><span style="font-family:arial\,helvetica\,sans-serif"><span style="background-color:transparent\; color:rgb(0\, 0\, 0)">Get into the holiday spirit with our wreath decorating workshop! We&rsquo\;ll help you decorate your own wreath\, using fresh evergreens\, winterberry and other adornments. Perfect for your front door!&nbsp\; Bring your own gardening gloves and pruners or purchase them from us at a discount.&nbsp\; Cost is $45.</span></span></span><br />\n&nbsp\;</div>\n\n<div><span style="font-size:14px"><span style="font-family:arial\,helvetica\,sans-serif"><span style="background-color:transparent\; color:rgb(0\, 0\, 0)">Please RSVP:&nbsp\;<a href="http://floralandhardyofskippack.com/events/304/wreath-decorating-workshop-i/">http://floralandhardyofskippack.com/events/304/wreath-decorating-workshop-i/</a></span></span></span></div>\n
LOCATION:Floral & Hardy 4007 Skippack Pike Skippack\, PA 19474
UID:e.2385.8019
SEQUENCE:3
DTSTAMP:20260422T040925Z
URL:https://business.chambergmc.org/events/details/floral-hardy-wreath-decorating-workshop-i-8019
END:VEVENT

END:VCALENDAR
