BEGIN:VCALENDAR
VERSION:2.0
PRODID:-//ChamberMaster//Event Calendar 2.0//EN
METHOD:PUBLISH
X-PUBLISHED-TTL:P3D
REFRESH-INTERVAL:P3D
CALSCALE:GREGORIAN
BEGIN:VEVENT
DTSTART:20180425T223000Z
DTEND:20180425T233000Z
X-MICROSOFT-CDO-ALLDAYEVENT:FALSE
SUMMARY:Floral & Hardy - Your Pollinator Friendly Garden
DESCRIPTION:Join us for this FREE wine & cheese class and learn about creating a pollinator friendly garden.  Humans would not have enough food without pollinators!  Learn how to attract pollinators to your garden with plants and an inviting habitat AND how to certify your garden as pollinator friendly.  Presentation will be given by Penn State Master Gardener\, Thom Mrazik. \n\n \n\nPlease RSVP: http://floralandhardyofskippack.com/events/224/your-pollinator-friendly-garden/
X-ALT-DESC;FMTTYPE=text/html:<div style="text-align:justify"><span style="background-color:transparent\; color:rgb(0\, 0\, 0)\; font-family:lora\,times new roman\,times\,serif\; font-size:13px">Join us for this FREE wine &amp\; cheese class and learn about creating a pollinator friendly garden.&nbsp\; Humans would not have enough food without pollinators!&nbsp\; Learn how to attract pollinators to your garden with plants and an inviting habitat AND how to certify your garden as pollinator friendly.&nbsp\; Presentation will be given by Penn State Master Gardener\, Thom Mrazik. </span><br />\n&nbsp\;</div>\n\n<div><span style="background-color:transparent\; color:rgb(0\, 0\, 0)\; font-family:lora\,times new roman\,times\,serif\; font-size:13px">Please RSVP:&nbsp\;<a href="http://floralandhardyofskippack.com/events/224/your-pollinator-friendly-garden/">http://floralandhardyofskippack.com/events/224/your-pollinator-friendly-garden/</a></span></div>\n
LOCATION:Floral & Hardy 4007 Skippack Pike Skippack\, PA 19474
UID:e.2385.3050
SEQUENCE:3
DTSTAMP:20260421T190700Z
URL:https://business.chambergmc.org/events/details/floral-hardy-your-pollinator-friendly-garden-04-25-2018-3050
END:VEVENT

END:VCALENDAR
