BEGIN:VCALENDAR
VERSION:2.0
PRODID:-//ChamberMaster//Event Calendar 2.0//EN
METHOD:PUBLISH
X-PUBLISHED-TTL:P3D
REFRESH-INTERVAL:P3D
CALSCALE:GREGORIAN
BEGIN:VEVENT
DTSTART:20190516T223000Z
DTEND:20190516T233000Z
X-MICROSOFT-CDO-ALLDAYEVENT:FALSE
SUMMARY:Floral & Hardy Your Pollinator Friendly Garden
DESCRIPTION:Join us for this FREE wine & cheese class about how to make your garden pollinator friendly.  Providing nutritious nectar and pollen plants in addition to a safe home is key to helping pollinators thrive.  Learn important ways you can enhance your garden to support summertime pollinators and enjoy their beauty.  Presentation will be given by Penn State Extension Master Gardener\, Thom Mrazik. \n\n\nPlease RSVP:\n\nhttp://floralandhardyofskippack.com/events/your-pollinator-friendly-garden/
X-ALT-DESC;FMTTYPE=text/html:<div style="text-align: justify\;"><span style="background-color:transparent\; color:rgb(0\, 0\, 0)\; font-family:arial\,helvetica\,sans-serif\; font-size:13px">Join us for this FREE wine &amp\; cheese class about how to make your garden pollinator friendly.&nbsp\; Providing nutritious nectar and pollen plants in addition to a safe home is key to helping pollinators thrive.&nbsp\; Learn important ways you can enhance your garden to support summertime pollinators and enjoy their beauty.&nbsp\; Presentation will be given by Penn State Extension Master Gardener\, Thom Mrazik.&nbsp\;</span></div>\n<br />\nPlease RSVP:<br />\n<a href="http://floralandhardyofskippack.com/events/your-pollinator-friendly-garden/">http://floralandhardyofskippack.com/events/your-pollinator-friendly-garden/</a>
LOCATION:Floral & Hardy 4007 Skippack Pike Skippack\, PA 19474
UID:e.2385.8636
SEQUENCE:3
DTSTAMP:20260422T112104Z
URL:https://business.chambergmc.org/events/details/floral-hardy-your-pollinator-friendly-garden-8636
END:VEVENT

END:VCALENDAR
