BEGIN:VCALENDAR
VERSION:2.0
PRODID:-//ChamberMaster//Event Calendar 2.0//EN
METHOD:PUBLISH
X-PUBLISHED-TTL:P3D
REFRESH-INTERVAL:P3D
CALSCALE:GREGORIAN
BEGIN:VEVENT
DTSTART:20180929T000000Z
DTEND:20180929T030000Z
X-MICROSOFT-CDO-ALLDAYEVENT:FALSE
SUMMARY:Food Truck Festival: Gwynedd Mercy University Homecoming
DESCRIPTION:Swing by and enjoy the evening at GMercyU. Enjoy music\, sample food from local food trucks and have some fun with friends in the Griffin Complex Lot! The following food trucks will be on campus: Julio's Mexican Cuisine (Tacos) Just Fork It (BBQ) Parkhurst Dining (Chicken and Waffle bar) Mister Softee Kona Ice Students are FREE! (must bring ID for free entry) and Alumni\, families\, guests\, and community members are $5 each. Children under 5 years are free. Admission permits you three food tickets and two dessert tickets. Children under 5 will receive 1 food ticket and 1 dessert ticket. Additional tickets may be purchased for $3 each.
X-ALT-DESC;FMTTYPE=text/html:Swing by and enjoy the evening at GMercyU. Enjoy music\, sample food from local food trucks and have some fun with friends in the Griffin Complex Lot! The following food trucks will be on campus: Julio&#39\;s Mexican Cuisine (Tacos) Just Fork It (BBQ) Parkhurst Dining (Chicken and Waffle bar) Mister Softee Kona Ice Students are FREE! (must bring ID for free entry) and Alumni\, families\, guests\, and community members are $5 each. Children under 5 years are free. Admission permits you three food tickets and two dessert tickets. Children under 5 will receive 1 food ticket and 1 dessert ticket. Additional tickets may be purchased for $3 each.
LOCATION:Gwynedd Mercy University 1325 Sumneytown Pike Gwynedd Valley\, PA 19437
UID:e.2385.8049
SEQUENCE:3
DTSTAMP:20260422T004235Z
URL:https://business.chambergmc.org/events/details/food-truck-festival-gwynedd-mercy-university-homecoming-8049
END:VEVENT

END:VCALENDAR
