BEGIN:VCALENDAR
VERSION:2.0
PRODID:-//ChamberMaster//Event Calendar 2.0//EN
METHOD:PUBLISH
X-PUBLISHED-TTL:P3D
REFRESH-INTERVAL:P3D
CALSCALE:GREGORIAN
BEGIN:VEVENT
DTSTART;VALUE=DATE:20191014
DTEND;VALUE=DATE:20191019
TRANSP:TRANSPARENT
X-MICROSOFT-CDO-ALLDAYEVENT:TRUE
SUMMARY:Free Classes All Week - THE MAX Challenge of Montgomeryville
DESCRIPTION:THE MAX Challenge is on a MISSION to help people achieve and exceed their health and fitness goals! We're SO EXCITED to start changing lives in Montgomeryville\, and in the spirit of community\, we'd like to open our doors and invite everyone to join us for FREE CLASSES all week long! Monday 10/14 - Friday 10/18 Book into a class: https://www.clubready.com/common/widgets/ClassPublish/ClassPublish.asp?ClassKey=3E928F6F13C3FA1C9C74AF2982BA01F90619F324C071E301
X-ALT-DESC;FMTTYPE=text/html:THE MAX Challenge is on a MISSION to help people achieve and exceed their health and fitness goals! We&#39\;re SO EXCITED to start changing lives in Montgomeryville\, and in the spirit of community\, we&rsquo\;d like to open our doors and invite everyone to join us for FREE CLASSES all week long! Monday 10/14 - Friday 10/18 Book into a class: https://www.clubready.com/common/widgets/ClassPublish/ClassPublish.asp?ClassKey=3E928F6F13C3FA1C9C74AF2982BA01F90619F324C071E301
LOCATION:411 Doylestown Road Montgomeryville PA 18936
UID:e.2385.10144
SEQUENCE:3
DTSTAMP:20260423T170426Z
URL:https://business.chambergmc.org/events/details/free-classes-all-week-the-max-challenge-of-montgomeryville-10144
END:VEVENT

END:VCALENDAR
