BEGIN:VCALENDAR
VERSION:2.0
PRODID:-//ChamberMaster//Event Calendar 2.0//EN
METHOD:PUBLISH
X-PUBLISHED-TTL:P3D
REFRESH-INTERVAL:P3D
CALSCALE:GREGORIAN
BEGIN:VEVENT
DTSTART:20160301T110000Z
DTEND:20160301T140000Z
X-MICROSOFT-CDO-ALLDAYEVENT:FALSE
SUMMARY:FREE COFFEE TUESDAY!
DESCRIPTION:START YOUR MORNING COMMUTE OFF RIGHT! Hidden Meadows on the Ridge will be offering FREE COFFEE TUESDAY\, March 1st\, 2016 from 6AM to 9AM. The Coffee & Cocoa are on us! No need to even leave your car! 340 Farmers Lane\, Sellersville\, PA 18960 215-257-6701 www.hiddenmeadowsontheridge.com
X-ALT-DESC;FMTTYPE=text/html:START YOUR MORNING COMMUTE OFF RIGHT! Hidden Meadows on the Ridge will be offering FREE COFFEE TUESDAY\, March 1st\, 2016 from 6AM to 9AM. The Coffee &amp\; Cocoa are on us! No need to even leave your car! 340 Farmers Lane\, Sellersville\, PA 18960 215-257-6701 www.hiddenmeadowsontheridge.com
LOCATION:340 Farmers Lane\, Sellersville PA 18960
UID:e.2385.1508
SEQUENCE:3
DTSTAMP:20260421T111617Z
URL:https://business.chambergmc.org/events/details/free-coffee-tuesday-03-01-2016-1508
END:VEVENT

END:VCALENDAR
