BEGIN:VCALENDAR
VERSION:2.0
PRODID:-//ChamberMaster//Event Calendar 2.0//EN
METHOD:PUBLISH
X-PUBLISHED-TTL:P3D
REFRESH-INTERVAL:P3D
CALSCALE:GREGORIAN
BEGIN:VEVENT
DTSTART:20180512T210000Z
DTEND:20180512T230000Z
X-MICROSOFT-CDO-ALLDAYEVENT:FALSE
SUMMARY:Free Designer Bag BINGO
DESCRIPTION:St. Mary Villa Welcomes the community to a Free Designer Bag BINGO Saturday\, May 12th. This event will be held in the Personal Care Community room and the first game will start @ 5pm. Refreshments and will be provided. Guided tours will be available upon request.
X-ALT-DESC;FMTTYPE=text/html:St. Mary Villa Welcomes the community to a Free Designer Bag BINGO Saturday\, May 12th. This event will be held in the Personal Care Community room and the first game will start @ 5pm. Refreshments and will be provided. Guided tours will be available upon request.
LOCATION:St. Mary Villa Personal Care Community Room (entrance is to the right of the chapel)
UID:e.2385.6640
SEQUENCE:3
DTSTAMP:20260421T190450Z
URL:https://business.chambergmc.org/events/details/free-designer-bag-bingo-05-12-2018-6640
END:VEVENT

END:VCALENDAR
