BEGIN:VCALENDAR
VERSION:2.0
PRODID:-//ChamberMaster//Event Calendar 2.0//EN
METHOD:PUBLISH
X-PUBLISHED-TTL:P3D
REFRESH-INTERVAL:P3D
CALSCALE:GREGORIAN
BEGIN:VEVENT
DTSTART:20190508T220000Z
DTEND:20190509T000000Z
X-MICROSOFT-CDO-ALLDAYEVENT:FALSE
SUMMARY:FREE Home Seminar
DESCRIPTION:Fact: It takes several professionals all working together to help you buy or sell a home. That's why we have assembled a team of experts to answer questions and explain how the process works. The FREE Home Seminar features a real estate agent\, and a mortgage company. By attending\, you'll gain valuable insight from professionals that live\, work and understand the local market.
X-ALT-DESC;FMTTYPE=text/html:Fact: It takes several professionals all working together to help you buy or sell a home. That&rsquo\;s why we have assembled a team of experts to answer questions and explain how the process works. The FREE Home Seminar features a real estate agent\, and a mortgage company. By attending\, you&rsquo\;ll gain valuable insight from professionals that live\, work and understand the local market.
LOCATION:Merck Sharp & Dohme FCU Operations Center 2nd floor 335 West Butler Avenue Chalfont\, PA 18914
UID:e.2385.8710
SEQUENCE:3
DTSTAMP:20260422T111719Z
URL:https://business.chambergmc.org/events/details/free-home-seminar-8710
END:VEVENT

END:VCALENDAR
