BEGIN:VCALENDAR
VERSION:2.0
PRODID:-//ChamberMaster//Event Calendar 2.0//EN
METHOD:PUBLISH
X-PUBLISHED-TTL:P3D
REFRESH-INTERVAL:P3D
CALSCALE:GREGORIAN
BEGIN:VEVENT
DTSTART:20180426T220000Z
DTEND:20180427T000000Z
X-MICROSOFT-CDO-ALLDAYEVENT:FALSE
SUMMARY:FREE Home Seminar –for Buyer and Sellers
DESCRIPTION:Your invited to our FREE Home Seminar Are you interested in buying a new home? How about selling your current residence? Join New Britain Mortgage for our FREE spring Home Seminar. You'll learn about the home buying and selling process from start to finish. You'll also learn about our Home Advantage program and how to receive cash rewards* at closing. *Cash Rewards are awarded through the HomeAdvantage program to buyers and sellers who select and use a real estate agent in the HomeAdvantage network. Home buyers or sellers are not eligible for Cash Rewards if they use an agent outside this network. Cash Rewards amounts are dependent on the commissions paid to the HomeAdvantage network agent. Obtaining a mortgage or use of any specific lending institution is not a requirement to earn Cash Rewards. If you are obtaining a mortgage\, your lender may have specific rules on how Cash Rewards can be paid out. Cash Rewards are available in most states\; however\, are void where prohibited by law or by the lender. Please consult with your lender for details that may affect you.
X-ALT-DESC;FMTTYPE=text/html:Your invited to our FREE Home Seminar Are you interested in buying a new home? How about selling your current residence? Join New Britain Mortgage for our FREE spring Home Seminar. You&#39\;ll learn about the home buying and selling process from start to finish. You&#39\;ll also learn about our Home Advantage program and how to receive cash rewards* at closing. *Cash Rewards are awarded through the HomeAdvantage program to buyers and sellers who select and use a real estate agent in the HomeAdvantage network. Home buyers or sellers are not eligible for Cash Rewards if they use an agent outside this network. Cash Rewards amounts are dependent on the commissions paid to the HomeAdvantage network agent. Obtaining a mortgage or use of any specific lending institution is not a requirement to earn Cash Rewards. If you are obtaining a mortgage\, your lender may have specific rules on how Cash Rewards can be paid out. Cash Rewards are available in most states\; however\, are void where prohibited by law or by the lender. Please consult with your lender for details that may affect you.
LOCATION:Merck Sharp & Dohme FCU Operations Center 2nd floor 335 West Butler Avenue Chalfont\, PA 18914
UID:e.2385.6322
SEQUENCE:3
DTSTAMP:20260421T190905Z
URL:https://business.chambergmc.org/events/details/free-home-seminar-for-buyer-and-sellers-04-26-2018-6322
END:VEVENT

END:VCALENDAR
