BEGIN:VCALENDAR
VERSION:2.0
PRODID:-//ChamberMaster//Event Calendar 2.0//EN
METHOD:PUBLISH
X-PUBLISHED-TTL:P3D
REFRESH-INTERVAL:P3D
CALSCALE:GREGORIAN
BEGIN:VEVENT
DTSTART:20171130T210000Z
DTEND:20171130T230000Z
X-MICROSOFT-CDO-ALLDAYEVENT:FALSE
SUMMARY:Free Leg Screening--Varicose and Spider Veins
DESCRIPTION:We invite you to a Free Leg Screening event at The Vein Institute of Blue Bell. You will meet one on one with Dr. Shah. Dr. Shah will educate you on Varicose and Spider veins. Signs and symptoms\, treatment options\, and more. No co-pay\, No deductible\, and No obligation. Please call 267-416-9534 or go on line at www.VIBB.org to register for this event. We look forward to meeting you.
X-ALT-DESC;FMTTYPE=text/html:<span style="color:rgb(75\, 79\, 86)\; font-family:helvetica\,arial\,sans-serif\; font-size:14px">We invite you to a Free Leg Screening event at The Vein Institute of Blue Bell. You will meet one on one with Dr. Shah. Dr. Shah will educate you on Varicose and Spider veins. Signs and symptoms\, treatment options\, and more. No co-pay\, No deductible\, and No obligation. Please call 267-416-9534 or go on line at&nbsp\;</span><a href="http://www.vibb.org/" rel="nofollow noopener" style="color: rgb(54\, 88\, 153)\; cursor: pointer\; text-decoration-line: none\; font-family: Helvetica\, Arial\, sans-serif\; font-size: 14px\;" target="_blank">www.VIBB.org</a><span style="color:rgb(75\, 79\, 86)\; font-family:helvetica\,arial\,sans-serif\; font-size:14px">&nbsp\;to register for this event. We look forward to meeting you.</span>
LOCATION:The Vein Institute of Blue Bell 721 Arbor Way\, Ste 103 Blue Bell\, PA 19422 (in the Abington Health Center at Blue Bell)
UID:e.2385.2651
SEQUENCE:3
DTSTAMP:20260421T123120Z
URL:https://business.chambergmc.org/events/details/free-leg-screening-varicose-and-spider-veins-11-30-2017-2651
END:VEVENT

END:VCALENDAR
