BEGIN:VCALENDAR
VERSION:2.0
PRODID:-//ChamberMaster//Event Calendar 2.0//EN
METHOD:PUBLISH
X-PUBLISHED-TTL:P3D
REFRESH-INTERVAL:P3D
CALSCALE:GREGORIAN
BEGIN:VEVENT
DTSTART:20190216T130000Z
DTEND:20190216T134500Z
X-MICROSOFT-CDO-ALLDAYEVENT:FALSE
SUMMARY:FREE Parent Tot Class!
DESCRIPTION:Hey Mom's want to get out and have some fun with your toddlers and make new friends? Natural Balance Gymnastics is hosting a FREE Parent Tot class!
X-ALT-DESC;FMTTYPE=text/html:Hey Mom&rsquo\;s want to get out and have some fun with your toddlers and make new friends? Natural Balance Gymnastics is hosting a FREE Parent Tot class!
LOCATION:Natural Balance Gymnastics 311 Bethlehem Pike\, Suite M Colmar\, PA 18915 Turn on Advance Lane\, 1st Left
UID:e.2385.8198
SEQUENCE:3
DTSTAMP:20260422T081756Z
URL:https://business.chambergmc.org/events/details/free-parent-tot-class-8198
END:VEVENT

END:VCALENDAR
