BEGIN:VCALENDAR
VERSION:2.0
PRODID:-//ChamberMaster//Event Calendar 2.0//EN
METHOD:PUBLISH
X-PUBLISHED-TTL:P3D
REFRESH-INTERVAL:P3D
CALSCALE:GREGORIAN
BEGIN:VEVENT
DTSTART:20180530T220000Z
DTEND:20180530T230000Z
X-MICROSOFT-CDO-ALLDAYEVENT:FALSE
SUMMARY:Free Prenatal Yoga Classes at Lokoff Abramson Early Learning Center
DESCRIPTION:Childbirth is an exciting time and at Lokoff Abramson Early Learning Center we want to support you through it! Join us for fun and light prenatal yoga classes that will have you moving and grooving. Faye Rose of IM=X Pilates and Art & Soul Yoga will lead these classes. There will also be an opportunity to speak with Lokoff Abramson Center Director Amanda Schaible and a parent whose infant is currently enrolled at our center.
X-ALT-DESC;FMTTYPE=text/html:Childbirth is an exciting time and at Lokoff Abramson Early Learning Center we want to support you through it! Join us for fun and light prenatal yoga classes that will have you moving and grooving. Faye Rose of IM=X Pilates and Art &amp\; Soul Yoga will lead these classes. There will also be an opportunity to speak with Lokoff Abramson Center Director Amanda Schaible and a parent whose infant is currently enrolled at our center.
LOCATION:Lokoff Abramson Early Learning Center 1920 Skippack Pike Blue Bell\, PA 19422
UID:e.2385.4305
SEQUENCE:3
DTSTAMP:20260421T202330Z
URL:https://business.chambergmc.org/events/details/free-prenatal-yoga-classes-at-lokoff-abramson-early-learning-center-05-30-2018-4305
END:VEVENT

END:VCALENDAR
