BEGIN:VCALENDAR
VERSION:2.0
PRODID:-//ChamberMaster//Event Calendar 2.0//EN
METHOD:PUBLISH
X-PUBLISHED-TTL:P3D
REFRESH-INTERVAL:P3D
CALSCALE:GREGORIAN
BEGIN:VEVENT
DTSTART:20190304T223000Z
DTEND:20190304T231500Z
X-MICROSOFT-CDO-ALLDAYEVENT:FALSE
SUMMARY:FREE Preschool Class
DESCRIPTION:Hey Mom's do your kids have too much energy? We can help! Natural Balance Gymnastics is hosting a FREE Preschool Gymnastics class Monday\, March 4th\, from 5:30pm   6:15pm
X-ALT-DESC;FMTTYPE=text/html:Hey Mom&rsquo\;s do your kids have too much energy? We can help! Natural Balance Gymnastics is hosting a FREE Preschool Gymnastics class Monday\, March 4th\, from 5:30pm &ndash\; 6:15pm
LOCATION:Natural Balance Gymnastics 311 Bethlehem Pike\, Suite M Colmar\, PA 18915 Turn on Advance Lane\, 1st Left
UID:e.2385.8203
SEQUENCE:3
DTSTAMP:20260422T082505Z
URL:https://business.chambergmc.org/events/details/free-preschool-class-8203
END:VEVENT

END:VCALENDAR
