BEGIN:VCALENDAR
VERSION:2.0
PRODID:-//ChamberMaster//Event Calendar 2.0//EN
METHOD:PUBLISH
X-PUBLISHED-TTL:P3D
REFRESH-INTERVAL:P3D
CALSCALE:GREGORIAN
BEGIN:VEVENT
DTSTART:20180829T220000Z
DTEND:20180830T010000Z
X-MICROSOFT-CDO-ALLDAYEVENT:FALSE
SUMMARY:Free Proctored SAT Exam
DESCRIPTION:Know before you go!  Our proctored practice exams help you "sample" how you may do on the SAT exam.  Our detailed score analysis will let you know what areas to focus on the achieve your best results.
X-ALT-DESC;FMTTYPE=text/html:Know before you go!&nbsp\; Our proctored practice exams help you &quot\;sample&quot\; how you may do on the SAT exam.&nbsp\; Our detailed score analysis will let you know what areas to focus on the achieve your best results. &nbsp\;
LOCATION:H3 Learning Center Henning's Shopping Plaza 298 Main St Harleysville PA 19438
UID:e.2385.7997
SEQUENCE:3
DTSTAMP:20260421T230402Z
URL:https://business.chambergmc.org/events/details/free-proctored-sat-exam-7997
END:VEVENT

END:VCALENDAR
