BEGIN:VCALENDAR
VERSION:2.0
PRODID:-//ChamberMaster//Event Calendar 2.0//EN
METHOD:PUBLISH
X-PUBLISHED-TTL:P3D
REFRESH-INTERVAL:P3D
CALSCALE:GREGORIAN
BEGIN:VEVENT
DTSTART:20190927T140000Z
DTEND:20190927T170000Z
X-MICROSOFT-CDO-ALLDAYEVENT:FALSE
SUMMARY:Free Shred-It Event
DESCRIPTION:AAA East Central is hosting a free Shred-It event. Bring up to five storage boxes filled with paperwork containing personally identifiable information including\, but not limited to\, invoices\, bank statements\, medical records\, business documents\, and credit reports.
X-ALT-DESC;FMTTYPE=text/html:AAA East Central is hosting a free Shred-It event. Bring up to five storage boxes filled with paperwork containing personally identifiable information including\, but not limited to\, invoices\, bank statements\, medical records\, business documents\, and credit reports.
LOCATION:AAA East Central\, 2072 Downyflake Lane\, Allentown
UID:e.2385.10093
SEQUENCE:3
DTSTAMP:20260423T194709Z
URL:https://business.chambergmc.org/events/details/free-shred-it-event-10093
END:VEVENT

END:VCALENDAR
