BEGIN:VCALENDAR
VERSION:2.0
PRODID:-//ChamberMaster//Event Calendar 2.0//EN
METHOD:PUBLISH
X-PUBLISHED-TTL:P3D
REFRESH-INTERVAL:P3D
CALSCALE:GREGORIAN
BEGIN:VEVENT
DTSTART:20181013T120000Z
DTEND:20181013T160000Z
X-MICROSOFT-CDO-ALLDAYEVENT:FALSE
SUMMARY:FREE Shredding Day - Whitemarsh Township
DESCRIPTION:Free Shredding Day - Whitemarsh Township Join us on Saturday\, October 13th for our Fall FREE Shredding Day hosted by Whitemarsh Township Parks and Recreation Department along with the Whitemarsh Community Ambulance.  Shredding will begin at 8:00am and end at 12:00pm\, or until both trucks are full.  This a FREE event\, however donations will be accepted and are appreciated!  Donations will benefit the Whitemarsh Community Ambulance and the Whitemarsh Township Parks and Recreation Department. Acceptable Items: white paper colored paper elvelopes newspapers personal files junk mail manila folders Please Remove: Staples binder clips pastics x-rays misc. trash
X-ALT-DESC;FMTTYPE=text/html:Free Shredding Day - Whitemarsh Township Join us on Saturday\, October 13th for our Fall FREE Shredding Day hosted by Whitemarsh Township Parks and Recreation Department along with the Whitemarsh Community Ambulance.&nbsp\; Shredding will begin at 8:00am and end at 12:00pm\, or until both trucks are full.&nbsp\; This a FREE event\, however donations will be accepted and are appreciated!&nbsp\; Donations will benefit the Whitemarsh Community Ambulance and the Whitemarsh Township Parks and Recreation Department. Acceptable Items: white paper colored paper elvelopes newspapers personal files junk mail manila folders Please Remove: Staples binder clips pastics x-rays misc. trash
LOCATION:Miles Park Lower Lot 374 Germantown Pike Lafayette Hill\, PA 19444
UID:e.2385.8011
SEQUENCE:3
DTSTAMP:20260422T014454Z
URL:https://business.chambergmc.org/events/details/free-shredding-day-whitemarsh-township-8011
END:VEVENT

END:VCALENDAR
